BEGIN:VCALENDAR
VERSION:2.0
PRODID:-//Alerta Chiapas - ECPv6.15.20//NONSGML v1.0//EN
CALSCALE:GREGORIAN
METHOD:PUBLISH
X-ORIGINAL-URL:https://alertachiapas.com
X-WR-CALDESC:Eventos para Alerta Chiapas
REFRESH-INTERVAL;VALUE=DURATION:PT1H
X-Robots-Tag:noindex
X-PUBLISHED-TTL:PT1H
BEGIN:VTIMEZONE
TZID:America/Mexico_City
BEGIN:STANDARD
TZOFFSETFROM:-0600
TZOFFSETTO:-0600
TZNAME:CST
DTSTART:20240101T000000
END:STANDARD
END:VTIMEZONE
BEGIN:VEVENT
DTSTART;TZID=America/Mexico_City:20250405T100000
DTEND;TZID=America/Mexico_City:20250412T160000
DTSTAMP:20260422T093217
CREATED:20250405T000140Z
LAST-MODIFIED:20250405T000140Z
UID:10000465-1743847200-1744473600@alertachiapas.com
SUMMARY:Expo Venta de Juguete Popular en Chiapas 2025
DESCRIPTION:📢 ¡Llega a Chiapas la Expo Venta Juguete Popular! Un evento lleno de tradición\, creatividad y cultura\, donde podrás conocer y adquirir piezas únicas de juguetería artesanal. Este evento contará con la participación de los finalistas del XV Concurso Estatal de Juguetería Popular\, destacando el talento de los artesanos chiapanecos. \n✨ Sumérgete en la magia de los juguetes hechos a mano y apoya el arte local mientras disfrutas de una exposición con piezas extraordinarias. No te pierdas la oportunidad de llevarte a casa un pedazo de la cultura chiapaneca. \n🛍️ Detalles del evento:📍 Lugar: Sala de Usos Múltiples\, Casa de las Artesanías📅 Fecha: 4 al 11 de abril⏰ Horario: 10:00 – 16:00 hrs🎭 Actividades: Exhibición y venta de juguetes artesanales👨‍👩‍👧‍👦 Entrada: Libre \n¡Apoya el talento local y vive la tradición del juguete popular! 🎨✨
URL:https://alertachiapas.com/evento/expo-venta-de-juguete-popular-en-chiapas-2025/
LOCATION:Instituto Casa de las artesanias\, Blvd. Belisario Domínguez 2035\, Xamaipak\, Tuxtla Gutiérrez\, Chiapas\, Mexico
CATEGORIES:Evento general
ATTACH;FMTTYPE=image/jpeg:https://alertachiapas.com/wp-content/uploads/2025/04/IMG_0481.jpg
END:VEVENT
BEGIN:VEVENT
DTSTART;TZID=America/Mexico_City:20250405T110000
DTEND;TZID=America/Mexico_City:20250405T190000
DTSTAMP:20260422T093217
CREATED:20250401T232109Z
LAST-MODIFIED:20250401T232109Z
UID:10000450-1743850800-1743879600@alertachiapas.com
SUMMARY:"El Tianguis" llega al Salón Ágora: Un evento lleno de arte\, moda y emprendimiento
DESCRIPTION:Este sábado 5 de abril\, El Tianguis abre sus puertas para ofrecer una experiencia única donde la creatividad y el comercio local se unen en un solo espacio. Desde las 11:00 AM hasta las 7:00 PM\, el Salón Ágora será el punto de encuentro para quienes buscan ropa de segunda mano\, arte local\, emprendimientos y más. \n🌟 ¿Qué encontrarás en El Tianguis?✔️ Venta de ropa y artículos de segunda mano 👕♻️✔️ Alimentos y bebidas para disfrutar 🍔🥤✔️ Un ambiente pet friendly 🐶💛✔️ Arte local y productos de emprendedores 🎭🛍️✔️ Servicios de tatuajes y perforaciones 🖤💉 \nSi buscas apoyar a emprendedores\, renovar tu estilo con moda sustentable o simplemente pasar un día diferente\, ¡no te lo puedes perder! 🎉 \n📍 Lugar: Salón Ágora📅 Fecha: Sábado 5 de abril⏰ Horario: 11:00 AM – 7:00 PM🎨 Actividades: Venta de segunda mano\, comida\, arte\, tatuajes y más🐾 Acceso pet friendly \n👉 ¡Corre la voz y ven a disfrutar de un sábado lleno de creatividad y buena vibra! 😃
URL:https://alertachiapas.com/evento/el-tianguis-llega-al-salon-agora-un-evento-lleno-de-arte-moda-y-emprendimiento/
LOCATION:Salón Ágora\, San Isidro Buena Vista S/N\, detrás de la Prepa 2\, tuxtla gutiérrez\, Chiapas\, 29000\, Mexico
CATEGORIES:Evento general
ATTACH;FMTTYPE=image/jpeg:https://alertachiapas.com/wp-content/uploads/2025/04/IMG_0438.jpg
END:VEVENT
BEGIN:VEVENT
DTSTART;TZID=America/Mexico_City:20250405T170000
DTEND;TZID=America/Mexico_City:20250405T200000
DTSTAMP:20260422T093217
CREATED:20250328T012321Z
LAST-MODIFIED:20250328T012343Z
UID:10000449-1743872400-1743883200@alertachiapas.com
SUMMARY:"Legados": Encuentro Dancístico Cultural en honor a la Danza Mexicana
DESCRIPTION:El próximo 5 de abril de 2025\, la ciudad de Tuxtla Gutiérrez\, Chiapas\, será sede de un evento especial para celebrar el Día Internacional de la Danza. El Encuentro Dancístico Cultural “LEGADOS” rendirá homenaje a la trayectoria del maestro Víctor Manuel Torres Velázquez\, una figura destacada en la danza mexicana y chiapaneca. \n🏛️ Un evento lleno de tradición y talentoEste evento contará con la participación de destacados grupos y artistas de la danza folklórica\, quienes ofrecerán un espectáculo lleno de color\, historia y pasión: \n🔸 MACTZA´ Artes Escénicas🎭 Dirección: Lucía Guadalupe Castillejos Hernández y Jesús García Reyes \n🔸 Ballet Folklórico MACATAPANA (Villacorzo\, Chiapas)💃 Dirección: Jorge Rafael García Borraz \n🔸 Grupo de Danza Folklórica COHUINÁ (Escuela Preparatoria No. 1\, turno matutino)🩰 Dirección: Víctor Manuel López Martínez \n🔸 Ballet Folklórico de la Universidad Autónoma de Chiapas🌟 Dirección: Víctor Manuel Torres Jiménez \n🎤 Presentación especial de la cantante chiapaneca Maura Chávez \n📍 Escenario de lujoEl evento se llevará a cabo en el Teatro Francisco I. Madero\, ubicado en la 2a Oriente y 2a Norte\, Col. Centro\, Tuxtla Gutiérrez\, Chiapas. \n🔴 Concentrado del evento 🔴📍 Lugar: Teatro Francisco I. Madero\, Tuxtla Gutiérrez\, Chiapas📅 Fecha: 5 de abril de 2025⏰ Hora: 17:00 horas💃 Detalles: Evento cultural en conmemoración del Día Internacional de la Danza\, con presentaciones de ballet folklórico y un homenaje a Víctor Manuel Torres Velázquez.
URL:https://alertachiapas.com/evento/legados-encuentro-dancistico-cultural-en-honor-a-la-danza-mexicana/
LOCATION:Teatro de la Ciudad Francisco I Madero\, Teatro Francisco I. Madero\, Av. 2a. Nte. Ote.\, San Marcos\, Tuxtla Gutierrez\, Chis.\, 29000\, Mexico
CATEGORIES:Evento general
ATTACH;FMTTYPE=image/jpeg:https://alertachiapas.com/wp-content/uploads/2025/03/IMG_0329.jpg
END:VEVENT
END:VCALENDAR