BEGIN:VCALENDAR
VERSION:2.0
PRODID:-//Alerta Chiapas - ECPv6.15.20//NONSGML v1.0//EN
CALSCALE:GREGORIAN
METHOD:PUBLISH
X-WR-CALNAME:Alerta Chiapas
X-ORIGINAL-URL:https://alertachiapas.com
X-WR-CALDESC:Eventos para Alerta Chiapas
REFRESH-INTERVAL;VALUE=DURATION:PT1H
X-Robots-Tag:noindex
X-PUBLISHED-TTL:PT1H
BEGIN:VTIMEZONE
TZID:America/Mexico_City
BEGIN:STANDARD
TZOFFSETFROM:-0600
TZOFFSETTO:-0600
TZNAME:CST
DTSTART:20240101T000000
END:STANDARD
END:VTIMEZONE
BEGIN:VEVENT
DTSTART;VALUE=DATE:20250311
DTEND;VALUE=DATE:20250324
DTSTAMP:20260422T051644
CREATED:20250306T003842Z
LAST-MODIFIED:20250306T003842Z
UID:10000383-1741651200-1742774399@alertachiapas.com
SUMMARY:Festividad del Señor del Pozo 2025 con Eventos Culturales y Musicales
DESCRIPTION:¡Tuxtla Gutiérrez se viste de fiesta! Prepárate para vivir la tradicional Festividad del Señor del Pozo 2025\, un evento lleno de cultura\, música y diversión para toda la familia. Del 11 al 23 de marzo\, disfruta de una variada programación que incluye grupos folklóricos\, música en vivo\, espectáculos infantiles y mucho más. \n¡No te pierdas esta oportunidad de celebrar nuestras tradiciones y disfrutar de un ambiente festivo y familiar! Te esperamos para compartir juntos la alegría de esta gran fiesta. \nConcentrado del Evento: \n\nFecha: Del martes 11 al domingo 23 de marzo de 2025.\nDetalles: Festividad del Señor del Pozo 2025.\nActividades:\n\nApertura: Martes 11 de marzo.\nGrupos Folklóricos: Miércoles 12\, jueves 13\, viernes 14\, miércoles 19\, viernes 21\, domingo 23.\nMúsica en Vivo: Horacio Rodríguez (viernes 14)\, Andy Amaya y Comediante (viernes 14)\, Pinky (domingo 16)\, Iber Josué (miércoles 19)\, Flor de Mayo (viernes 21).\nEspectáculos Infantiles: Payasito Nachito (sábado 15\, domingo 23)\, Pinky Show (domingo 16)\, Adriansin Show (viernes 14\, lunes 17)\, Payasito Alegrín (sábado 22).\nBaile Folklórico: Mtra. Migdalia (sábado 15).\nBailable: Jueves 13\, lunes 17\, martes 18.\nDanzantes de la Fe: Jueves 20.\nCatequesis: Lunes 17.\nCharro Más Fregón: Viernes 14.\nGrupo Folklórico Capilla Niño Doctor: Domingo 23.
URL:https://alertachiapas.com/evento/festividad-del-senor-del-pozo-2025-con-eventos-culturales-y-musicales/
LOCATION:Capilla del Señor del Pozo\, Rivera Cerro Hueco\, Cerro Hueco\, tuxtla gutiérrez\, 29094
CATEGORIES:Evento general
ATTACH;FMTTYPE=image/jpeg:https://alertachiapas.com/wp-content/uploads/2025/03/7693f2cf-3808-42f0-a517-fbfaac84094f.jpg
END:VEVENT
BEGIN:VEVENT
DTSTART;VALUE=DATE:20250313
DTEND;VALUE=DATE:20250317
DTSTAMP:20260422T051644
CREATED:20250307T002319Z
LAST-MODIFIED:20250307T002319Z
UID:10000391-1741824000-1742169599@alertachiapas.com
SUMMARY:Celebra la Feria de la Botana Chiapaneca
DESCRIPTION:¡Prepárense para una fiesta de sabores y tradición! la Cuarta Edición de la Feria de la Botana Chiapaneca\, un evento que celebra la rica gastronomía de la región. \nDel 13 al 16 de marzo\, disfruta de una gran variedad de botanas chiapanecas\, artesanías y música en vivo. El programa incluye: \n\nMúsica para todos los gustos: Marimba Raíces Hnos. Nandayapa\, Marimba Orquesta Pañuelo Rojo\, Los Cadetes de Linares de los Hnos. Garza\, Revolucíon Norteña\, TG Norteño\, Edgar Oceransky\, Tony Sánchez Los Hijos de Sánchez\, Cox y Pablo Portillo MDO\, Románticos Internacionales\, Karla Sánchez\, Julio Morales\, Carlos Trigo\, Acarro con Coco\, Arroz con Coco\, Andy y Alexander.\nShow Folklórico.\nPresentación del libro Nárima Nilú “Origen y Evolución del Traje de Chiapaneca” por Marite Nandayapa.\nExposición de artesanías y gastronomía.\n\n¡No te pierdas esta oportunidad de disfrutar de la cultura y los sabores de Chiapas! \nConcentrado del Evento: \n\nLugar: Chiapa de Corzo\, Chiapas.\nFecha: 13 al 16 de marzo.\nDetalles: Feria de la Botana Chiapaneca con música en vivo\, show folklórico\, presentación de libro\, exposición de artesanías y gastronomía.
URL:https://alertachiapas.com/evento/celebra-la-feria-de-la-botana-chiapaneca/
LOCATION:Sonora Botanera\, 482 8A Avenida Norte Oriente\, tuxtla gutiérrez\, Chiapas\, Mexico
CATEGORIES:Evento general
ATTACH;FMTTYPE=image/jpeg:https://alertachiapas.com/wp-content/uploads/2025/03/480914123_1063813772439598_7034077292784864651_n.jpg
END:VEVENT
BEGIN:VEVENT
DTSTART;TZID=America/Mexico_City:20250314T080000
DTEND;TZID=America/Mexico_City:20250314T170000
DTSTAMP:20260422T051644
CREATED:20250315T000833Z
LAST-MODIFIED:20250315T001052Z
UID:10000414-1741939200-1741971600@alertachiapas.com
SUMMARY:Celebra el Equinoccio de Primavera con una Práctica de Yoga
DESCRIPTION:La Universidad Autónoma de Chiapas (UNACH)\, a través de la Secretaría de Identidad y Responsabilidad Social Universitaria (SIRESU)\, te invita a recibir la primavera con armonía y bienestar en una especial Práctica de Yoga. \n🌸 Conéctate con la energía del Equinoccio de Primavera mientras realizas ejercicios de respiración\, estiramientos y meditación guiada por la instructora Cristel Torres. \n💦 Recomendaciones:✔️ Lleva tu tapete de yoga✔️ Usa ropa cómoda✔️ Mantente hidratado \n📞 Inscripciones y más información:WhatsApp: 961 124 25 80 \n📍 Lugar: Foro de La Higuera📅 Fecha: Viernes 21 de marzo⏰ Hora: 8:30 AM📌 Dirección: Blvd. Belisario Domínguez Km. 1081\, sin número\, Col. Terán \n¡No te pierdas esta experiencia única para equilibrar tu cuerpo y mente en sintonía con la naturaleza! 🌿🧘‍♂️✨ \n\n📌 CONCENTRADO DEL EVENTO📍 Lugar: Foro de La Higuera📅 Fecha: 21 de marzo⏰ Hora: 8:30 AM🧘‍♀️ Imparte: Cristel Torres📞 Inscripciones: 961 124 25 80🎟 Público en general – Evento gratuito
URL:https://alertachiapas.com/evento/celebra-el-equinoccio-de-primavera-con-una-practica-de-yoga/
LOCATION:Foro de la Higuera\, C. 11 de Septiembre 110\, Terán\, tuxtla gutiérrez\, Chiapas\, 29050\, Mexico
CATEGORIES:Evento general
ATTACH;FMTTYPE=image/jpeg:https://alertachiapas.com/wp-content/uploads/2025/03/IMG_9986.jpg
END:VEVENT
BEGIN:VEVENT
DTSTART;TZID=America/Mexico_City:20250314T100000
DTEND;TZID=America/Mexico_City:20250314T200000
DTSTAMP:20260422T051644
CREATED:20250312T004248Z
LAST-MODIFIED:20250312T004248Z
UID:10000403-1741946400-1741982400@alertachiapas.com
SUMMARY:Celebran 19 Años del Museo de la Marimba Zeferino Nandayapa Ralda en Tuxtla Gutiérrez
DESCRIPTION:El Ayuntamiento de Tuxtla Gutiérrez\, a través del Instituto Tuxtleco de Arte y Cultura (ITAC)\, invita a toda la ciudadanía a la celebración del 19° aniversario del Museo de la Marimba Zeferino Nandayapa Ralda. Un evento especial que rinde homenaje a este emblemático espacio cultural y a la tradición de la marimba en Chiapas. \n📅 El 14 de marzo de 2025\, disfruta de una jornada llena de música\, historia y talento con un programa que incluye: \n🎟️ Actividades destacadas:🔹 10:00 y 11:00 h – Recorridos guiados por el museo.🔹 16:00 h – Presentación de la Marimba Juvenil de Chiapas.🔹 17:00 h – Crónica del Museo de la Marimba Zeferino Nandayapa Ralda y su relevancia histórica\, con la participación de Jorge Alejandro Sánchez Flores\, Raúl Vera y Jorge Coello.🔹 18:45 h – Concierto didáctico “Origen y evolución de la marimba mexicana”\, a cargo del Grupo Raíces y los hermanos Nandayapa.🔹 19:45 h – Presentación de alumnas y alumnos del Museo de la Marimba Zeferino Nandayapa Ralda. \nEste evento es una gran oportunidad para conocer más sobre la historia y el impacto de la marimba en la cultura chiapaneca y mexicana. No te pierdas esta celebración llena de ritmo y tradición. \n📍 LUGAR: Museo de la Marimba Zeferino Nandayapa Ralda\, Tuxtla Gutiérrez📅 FECHA: 14 de marzo de 2025⏰ HORA: Desde las 10:00 h hasta las 19:45 h🎭 DETALLES: Recorridos\, conciertos\, charlas y presentaciones especiales. Entrada libre. \n¡Ven\, disfruta y vive Tuxtla! 🌆🎶🥁
URL:https://alertachiapas.com/evento/celebran-19-anos-del-museo-de-la-marimba-zeferino-nandayapa-ralda-en-tuxtla-gutierrez/
LOCATION:Museo de la Marimba\, Av. Central y 9a. Poniente\, tuxtla gutiérrez\, Chiapas\, 29000\, Mexico
CATEGORIES:Evento general
ATTACH;FMTTYPE=image/jpeg:https://alertachiapas.com/wp-content/uploads/2025/03/IMG_9916.jpg
END:VEVENT
BEGIN:VEVENT
DTSTART;TZID=America/Mexico_City:20250314T200000
DTEND;TZID=America/Mexico_City:20250314T213000
DTSTAMP:20260422T051644
CREATED:20250312T213916Z
LAST-MODIFIED:20250312T213916Z
UID:10000409-1741982400-1741987800@alertachiapas.com
SUMMARY:Ojos al cielo: Mujeres en la Ciencia y en Chiapas
DESCRIPTION:El Club Astronómico Jatamatzá te invita a una sesión virtual especial de #OjosAlCielo para conmemorar el Día Internacional de la Mujer 👩‍🚀💡. Un evento donde destacadas científicas compartirán su experiencia en la divulgación\, la astrofotografía y el impacto de la mujer en la ciencia en Chiapas. \n📢 Invitadas especiales:🌟 Monserrat Ochoa – Astrobióloga y divulgadora de la ciencia.🌟 Ale Muñoz – Ing. Industrial\, Cofundadora del Club Astronómico Jatamatzá y diseñadora de talleres.🌟 Alma Anay – Bióloga y promotora ambiental.🌟 Ale Stella – Ing. Industrial\, astrofotógrafa y empresaria. \n🎤 Moderadora: Ana Wilde \n💻 Transmisión en vivo a través de Facebook Live en @JatamatzáOficial 📡🔴 \n¡Acompáñanos en esta fascinante charla y celebremos juntas el papel de la mujer en la ciencia! 🚀🔬 \n📍 Concentrado del evento:📆 Fecha: Viernes 14 de marzo⏰ Hora: 20:00 horas📌 Lugar: Transmisión en vivo por Facebook Live (@JatamatzáOficial)🌌 Detalles: Conversatorio con mujeres científicas sobre su trayectoria e impacto en Chiapas.
URL:https://alertachiapas.com/evento/ojos-al-cielo-mujeres-en-la-ciencia-y-en-chiapas/
LOCATION:Facebook Live
CATEGORIES:Evento general
ATTACH;FMTTYPE=image/jpeg:https://alertachiapas.com/wp-content/uploads/2025/03/1346e703-60bd-42d1-9349-b8062ad01567.jpg
END:VEVENT
END:VCALENDAR