BEGIN:VCALENDAR
VERSION:2.0
PRODID:-//Alerta Chiapas - ECPv6.15.20//NONSGML v1.0//EN
CALSCALE:GREGORIAN
METHOD:PUBLISH
X-WR-CALNAME:Alerta Chiapas
X-ORIGINAL-URL:https://alertachiapas.com
X-WR-CALDESC:Eventos para Alerta Chiapas
REFRESH-INTERVAL;VALUE=DURATION:PT1H
X-Robots-Tag:noindex
X-PUBLISHED-TTL:PT1H
BEGIN:VTIMEZONE
TZID:America/Mexico_City
BEGIN:STANDARD
TZOFFSETFROM:-0600
TZOFFSETTO:-0600
TZNAME:CST
DTSTART:20240101T000000
END:STANDARD
END:VTIMEZONE
BEGIN:VEVENT
DTSTART;TZID=America/Mexico_City:20250305T163000
DTEND;TZID=America/Mexico_City:20250307T200000
DTSTAMP:20260420T225440
CREATED:20250221T232717Z
LAST-MODIFIED:20250221T232717Z
UID:10000348-1741192200-1741377600@alertachiapas.com
SUMMARY:¡Celebremos el talento femenino en el "Encuentro de Mujeres Creadoras" en Tuxtla Gutiérrez!
DESCRIPTION:En el marco de la conmemoración del Día de la Mujer\, el Instituto Tuxtleco de Arte y Cultura\, a través de la Casa de la Cultura Luis Alaminos Guerrero\, invita al Encuentro de Mujeres Creadoras. \n¿Cuándo y dónde? \n\nLugar: Casa de la Cultura “Luis Alaminos Guerrero”\, 1a. Poniente esquina 2a. Norte\, Tuxtla Gutiérrez\, Chiapas.\nFechas: 5\, 6 y 7 de marzo de 2025.\nHorarios: 5 y 6 de marzo: 17:00 hrs. 7 de marzo: 16:30 hrs.\n\n¿Qué habrá? \n\nPresentaciones: Descubre las últimas creaciones de mujeres artistas en diversas disciplinas.\nTalleres: Aprende nuevas habilidades y técnicas de la mano de expertas creadoras.\nMesas de diálogo: Participa en conversaciones enriquecedoras sobre el papel de la mujer en el arte y la cultura.\nExpoventa: Adquiere obras únicas y originales directamente de las creadoras.\n\n¡No te pierdas esta oportunidad de celebrar el talento femenino y apoyar a las mujeres creadoras de Chiapas! \nOrganiza: \n\nAyuntamiento de Tuxtla Gutiérrez 2024-2027.\nInstituto Tuxtleco de Arte y Cultura.\n\n¡Qué viva Tuxtla! \nEntrada libre.
URL:https://alertachiapas.com/evento/celebremos-el-talento-femenino-en-el-encuentro-de-mujeres-creadoras-en-tuxtla-gutierrez/
LOCATION:Casa de la Cultura Luis Alaminos\, 1a poniente esquina con 2a norte\, Tuxtla Gutiérrez\, Chiapas\, 29000\, Mexico
CATEGORIES:Evento general
ATTACH;FMTTYPE=image/jpeg:https://alertachiapas.com/wp-content/uploads/2025/02/480187528_942216714724978_5463783388357351133_n.jpg
END:VEVENT
BEGIN:VEVENT
DTSTART;TZID=America/Mexico_City:20250307T170000
DTEND;TZID=America/Mexico_City:20250307T200000
DTSTAMP:20260420T225440
CREATED:20250306T004327Z
LAST-MODIFIED:20250306T004327Z
UID:10000385-1741366800-1741377600@alertachiapas.com
SUMMARY:Encuentro de Mujeres Creadoras con Expo Venta en Casa de la Cultura
DESCRIPTION:El Ayuntamiento 2024-2027\, a través del Instituto Tuxtleco de Arte y Cultura\, te invita al “Encuentro de Mujeres Creadoras” con una espectacular Expo Venta. Descubre y apoya el trabajo de artistas chiapanecas que exhibirán y venderán sus creaciones únicas. \n¡Ven y encuentra piezas originales de tazas\, cuadros\, cerámicas\, playeras\, bordados e ilustraciones impresas! Apoya el arte local y celebra la creatividad de las mujeres de nuestra comunidad. ¡Te esperamos para disfrutar de una tarde llena de arte y talento! \nConcentrado del Evento: \n\nLugar: Casa de la Cultura Luis Alaminos Guerrero\, 1a. Poniente esquina 2a. Norte\, Tuxtla Gutiérrez\, Chiapas.\nFecha: 7 de marzo de 2025.\nHora: 17:00 a 20:00 hrs.\nDetalles: Encuentro de Mujeres Creadoras con Expo Venta.\nProductos: Tazas\, cuadros\, cerámicas\, playeras\, bordados e ilustraciones impresas.\nParticipantes: AMATE\, Paola Vchello.
URL:https://alertachiapas.com/evento/encuentro-de-mujeres-creadoras-con-expo-venta-en-casa-de-la-cultura/
LOCATION:Casa de la Cultura Luis Alaminos\, 1a poniente esquina con 2a norte\, Tuxtla Gutiérrez\, Chiapas\, 29000\, Mexico
CATEGORIES:Evento general
ATTACH;FMTTYPE=image/jpeg:https://alertachiapas.com/wp-content/uploads/2025/03/482914358_18389809270110703_837070603140367982_n.jpg
END:VEVENT
END:VCALENDAR