BEGIN:VCALENDAR
VERSION:2.0
PRODID:-//Alerta Chiapas - ECPv6.15.20//NONSGML v1.0//EN
CALSCALE:GREGORIAN
METHOD:PUBLISH
X-ORIGINAL-URL:https://alertachiapas.com
X-WR-CALDESC:Eventos para Alerta Chiapas
REFRESH-INTERVAL;VALUE=DURATION:PT1H
X-Robots-Tag:noindex
X-PUBLISHED-TTL:PT1H
BEGIN:VTIMEZONE
TZID:America/Mexico_City
BEGIN:STANDARD
TZOFFSETFROM:-0600
TZOFFSETTO:-0600
TZNAME:CST
DTSTART:20240101T000000
END:STANDARD
END:VTIMEZONE
BEGIN:VEVENT
DTSTART;VALUE=DATE:20250228
DTEND;VALUE=DATE:20250306
DTSTAMP:20260420T192446
CREATED:20250225T013028Z
LAST-MODIFIED:20250225T013028Z
UID:10000354-1740700800-1741219199@alertachiapas.com
SUMMARY:El Carnaval Zoque Coiteco en su edición 2025
DESCRIPTION:Ocozocoautla se prepara para vivir una de sus festividades más esperadas del año: el Carnaval Zoque Coiteco 2025. Este colorido evento reúne tradición\, cultura y alegría con una serie de actividades imperdibles para locales y visitantes. \nEl carnaval inicia el 28 de febrero con la Presentación Oficial en el Parque Central a las 18:00 horas\, dando paso a una agenda llena de bailes\, desfiles y rituales tradicionales. \nEntre los eventos más destacados\, se encuentran la Carrera del Carnaval el 1 de marzo desde las 07:00 horas\, el Magno Desfile del Carnaval Zoque el 2 de marzo a las 09:00 horas\, y el famoso Baño de Zapoyol el 5 de marzo a las 08:00 horas. \nAdemás\, habrá visitas y recorridos a diferentes Cohuínas del Carnaval\, danzas tradicionales\, el solemne pedido de permiso en iglesias\, y el emblemático Baile de Plaza el 4 de marzo desde las 13:00 horas\, un evento lleno de música y color que no te puedes perder. \nEste carnaval es un patrimonio cultural invaluable\, donde las raíces zoques se manifiestan en sus personajes\, vestimentas y expresiones artísticas. Prepárate para disfrutar de días llenos de tradición y fiesta en Ocozocoautla. \n📌 Evento: Carnaval Zoque Coiteco 2025📌 Lugar: Ocozocoautla\, Chiapas📌 Fechas: Del 28 de febrero al 5 de marzo de 2025📌 Horarios: Diferentes horarios según la actividad📌 Actividades destacadas:✅ Presentación oficial – 28 de febrero (18:00 hrs)✅ Carrera del Carnaval – 1 de marzo (07:00 hrs)✅ Magno Desfile – 2 de marzo (09:00 hrs)✅ Baile de Plaza – 4 de marzo (13:00 hrs)✅ Baño de Zapoyol – 5 de marzo (08:00 hrs) \n📢 ¡No te pierdas esta gran celebración llena de tradición y cultura! 🎊
URL:https://alertachiapas.com/evento/el-carnaval-zoque-coiteco-en-su-edicion-2025/
LOCATION:Centro de Ocozocoautla de Espinosa\, Ocozocoautla de Espinosa\, Chiapas\, Mexico
CATEGORIES:Evento general
ATTACH;FMTTYPE=image/png:https://alertachiapas.com/wp-content/uploads/2025/02/IMG_9206.png
END:VEVENT
BEGIN:VEVENT
DTSTART;TZID=America/Mexico_City:20250228T140000
DTEND;TZID=America/Mexico_City:20250301T190000
DTSTAMP:20260420T192446
CREATED:20250226T014848Z
LAST-MODIFIED:20250226T014848Z
UID:10000357-1740751200-1740855600@alertachiapas.com
SUMMARY:¡Celebremos el Arte y Emprendimiento Chiapaneco!
DESCRIPTION:¡Atención amantes del arte y emprendedores creativos! Los invitamos a un evento único donde el talento chiapaneco se соncentra para mostrar sus creaciones únicas. Desde textiles vibrantes hasta joyería hecha a mano\, con la pasión y dedicación que hay detrás de cada pieza. ️ \nTendremos una variedad de productos artesanales de alta calidad\, elaborados con amor y tradición. ¡Apoya a nuestros emprendedores locales y llévate a casa una pieza de arte única! \n ¡No te pierdas esta oportunidad de celebrar juntos el arte y el emprendimiento! \n¡Te esperamos con los brazos abiertos! \nLugar: Explanada Rotonda Fuente del Parque San Marcos\, Tuxtla Gutiérrez\, Chiapas. \nFecha: 28 de febrero y 1 de marzo. ️ \nHora: De 14:00 a 19:00 horas.
URL:https://alertachiapas.com/evento/celebremos-el-arte-y-emprendimiento-chiapaneco/
LOCATION:Parque San Marcos\, Tuxtla Gutiérrez\, Chiapas\, 29000\, Mexico
CATEGORIES:Evento general
ATTACH;FMTTYPE=image/png:https://alertachiapas.com/wp-content/uploads/2025/02/Captura-de-pantalla-2025-02-25-a-las-7.41.24 p.m.png
END:VEVENT
BEGIN:VEVENT
DTSTART;TZID=America/Mexico_City:20250301T180000
DTEND;TZID=America/Mexico_City:20250301T233000
DTSTAMP:20260420T192446
CREATED:20250228T205808Z
LAST-MODIFIED:20250228T205808Z
UID:10000369-1740852000-1740871800@alertachiapas.com
SUMMARY:Arranca el Carnaval Zoque Coiteco 2025: Último Ensayo y Marca del Caballo
DESCRIPTION:¡Prepárense para vivir la tradición y la alegría del Carnaval Zoque Coiteco 2025! El Cohuiná de Santo Domingo de Guzmán y la Virgen de Candelaria “El Caballito” te invita a ser parte del último ensayo del “Baile de Plaza” y la tradicional “Marca del Caballo” . \nEste sábado 1 de marzo\, a partir de las 6:00 pm\, sé testigo de la preparación de esta fiesta llena de color y significado cultural. Únete a la comunidad en un ambiente de celebración y tradición\, donde podrás disfrutar de la música\, el baile y la emoción que caracterizan al Carnaval Zoque Coiteco. \nAl finalizar el ensayo\, la fiesta continúa con un gran baile amenizado por Código JN . ¡No te lo pierdas! La cita es en 1ra nte entre 9na y 10ma ote\, Callejón Privado\, Barrio Nuevo. \n¡Tu presencia y apoyo son fundamentales para mantener viva esta tradición! ¡Dios los bendiga! \nConcentrado del Evento: \n\nEvento: Último Ensayo del “Baile de Plaza” y “Marca del Caballo” (Inicio del Carnaval Zoque Coiteco 2025)\nLugar: 1ra nte entre 9na y 10ma ote\, Callejón Privado\, Barrio Nuevo\, Tuxtla Gutiérrez\, Chiapas.\nFecha: Sábado 1 de marzo de 2025 ️\nHora: 6:00 pm\nActividades: Ensayo del “Baile de Plaza”\, “Marca del Caballo” y baile con Código JN.\nOrganiza: Cohuiná de Santo Domingo de Guzmán y la Virgen de Candelaria “El Caballito”\n¡Viva Santo Domingo y la Virgen de Candelaria!
URL:https://alertachiapas.com/evento/arranca-el-carnaval-zoque-coiteco-2025-ultimo-ensayo-y-marca-del-caballo/
LOCATION:Cohuina del Caballito\, 4a Calle Poniente entre 7a y 8a Norte\, Ocozocoautla de Espinosa\, Chiapas\, Mexico
CATEGORIES:Evento general
ATTACH;FMTTYPE=image/jpeg:https://alertachiapas.com/wp-content/uploads/2025/02/481975797_1059922176162166_1316297340071358940_n.jpg
END:VEVENT
END:VCALENDAR