BEGIN:VCALENDAR
VERSION:2.0
PRODID:-//Alerta Chiapas - ECPv6.15.20//NONSGML v1.0//EN
CALSCALE:GREGORIAN
METHOD:PUBLISH
X-ORIGINAL-URL:https://alertachiapas.com
X-WR-CALDESC:Eventos para Alerta Chiapas
REFRESH-INTERVAL;VALUE=DURATION:PT1H
X-Robots-Tag:noindex
X-PUBLISHED-TTL:PT1H
BEGIN:VTIMEZONE
TZID:America/Mexico_City
BEGIN:STANDARD
TZOFFSETFROM:-0600
TZOFFSETTO:-0600
TZNAME:CST
DTSTART:20240101T000000
END:STANDARD
END:VTIMEZONE
BEGIN:VEVENT
DTSTART;TZID=America/Mexico_City:20250217T080000
DTEND;TZID=America/Mexico_City:20250217T170000
DTSTAMP:20260421T002629
CREATED:20250218T010555Z
LAST-MODIFIED:20250218T010555Z
UID:10000329-1739779200-1739811600@alertachiapas.com
SUMMARY:Celebración de los 31 Años de Fortaleza de la Mujer Maya
DESCRIPTION:La organización Fortaleza de la Mujer Maya A.C. (FOMMA) celebra su 31° aniversario con un programa cultural especial lleno de espiritualidad\, reflexión y sanación. Este evento se llevará a cabo en San Cristóbal de las Casas\, Chiapas\, y está diseñado para honrar el espacio\, visibilizar los derechos de las mujeres y compartir un momento de convivencia. \n📅 Programa Cultural:✨ 20 de febrero🕓 4:00 – 6:00 p.m. → Ritual ancestral en agradecimiento al espacio. \n✨ 21 de febrero🕓 4:00 – 6:00 p.m. → Plática: “Derechos de mujeres”. \n✨ 22 de febrero🕓 4:00 – 5:30 p.m. → Plática-taller: “Sanación para mujeres”.🕠 5:30 p.m. → Convivio para cerrar con armonía y comunidad. \nEste evento representa más de tres décadas de trabajo en favor de las mujeres mayas\, promoviendo sus derechos\, fortaleciendo su identidad y fomentando el arte y la cultura como herramientas de transformación. \n💡 ¡No te lo pierdas! Ven y sé parte de esta celebración. \n\n📍 Concentrado del evento:📌 Lugar: Av. Argentina #14\, Barrio de Mexicanos\, San Cristóbal de las Casas\, Chiapas.📅 Fechas: 20\, 21 y 22 de febrero.⏰ Horario: 4:00 p.m. – 6:00 p.m. (varía según la actividad).🔹 Detalles: Ritual\, pláticas sobre derechos de mujeres y sanación\, y convivencia final.🔹 Organiza: Fortaleza de la Mujer Maya A.C. (FOMMA).
URL:https://alertachiapas.com/evento/celebracion-de-los-31-anos-de-fortaleza-de-la-mujer-maya/
LOCATION:Av. Argentina #14\, Barrio de Mexicanos\, Av. Argentina #14\, Barrio de Mexicanos\, San Cristóbal de Las Casas\, Chiapas\, Mexico
CATEGORIES:Evento general
ATTACH;FMTTYPE=image/jpeg:https://alertachiapas.com/wp-content/uploads/2025/02/480612051_1687542158497616_6281748827132206702_n.jpg
END:VEVENT
END:VCALENDAR