BEGIN:VCALENDAR
VERSION:2.0
PRODID:-//Alerta Chiapas - ECPv6.15.20//NONSGML v1.0//EN
CALSCALE:GREGORIAN
METHOD:PUBLISH
X-WR-CALNAME:Alerta Chiapas
X-ORIGINAL-URL:https://alertachiapas.com
X-WR-CALDESC:Eventos para Alerta Chiapas
REFRESH-INTERVAL;VALUE=DURATION:PT1H
X-Robots-Tag:noindex
X-PUBLISHED-TTL:PT1H
BEGIN:VTIMEZONE
TZID:America/Mexico_City
BEGIN:STANDARD
TZOFFSETFROM:-0600
TZOFFSETTO:-0600
TZNAME:CST
DTSTART:20240101T000000
END:STANDARD
END:VTIMEZONE
BEGIN:VEVENT
DTSTART;TZID=America/Mexico_City:20250125T080000
DTEND;TZID=America/Mexico_City:20250125T123000
DTSTAMP:20260420T084034
CREATED:20250118T001239Z
LAST-MODIFIED:20250118T001320Z
UID:10000240-1737792000-1737808200@alertachiapas.com
SUMMARY:"Peregrinación Pueblo Creyente" en San Cristóbal de las Casas
DESCRIPTION:El próximo 25 de enero de 2025\, San Cristóbal de las Casas será testigo de una de las expresiones de fe más significativas del estado: la Peregrinación del Pueblo Creyente\, organizada por la Diócesis de San Cristóbal como parte del cierre del Año Jubilar. \nBajo el lema “Jtatic Samuel\, caminante en el corazón de los pueblos: Memorias y horizontes”\, esta peregrinación reunirá a comunidades de la región para caminar en unidad y celebrar la memoria de Jtatic Samuel Ruiz. \nLa peregrinación comenzará a las 9:00 a.m. desde los puntos de reunión en la Caseta San Pablo y la entrada al CBTis\, con llegada aproximada a las 8:00 a.m.. El evento culminará con una emotiva Eucaristía a las 11:00 a.m.\, al costado de la catedral. \nEste evento es una oportunidad única para reflexionar sobre los valores comunitarios\, la memoria histórica y el horizonte espiritual de los pueblos chiapanecos. ¡Participa y únete a esta manifestación de fe! 🙏 \n📅 Concentrado del evento: \n\nLugar: San Cristóbal de las Casas\, Chiapas\nFecha: 25 de enero de 2025\nHora:\n\nLlegada: 8:00 a.m.\nSalida: 9:00 a.m.\nEucaristía: 11:00 a.m.\n\n\nPuntos de reunión: Caseta San Pablo y entrada CBTis\nDetalles: Evento organizado por la Diócesis de San Cristóbal de las Casas\n\n 
URL:https://alertachiapas.com/evento/peregrinacion-pueblo-creyente-en-san-cristobal-de-las-casas/
LOCATION:Caseta San Pablo y la entrada al CBTis\, San Cristóbal de Las Casas\, Chiapas\, Mexico
CATEGORIES:Evento general
ATTACH;FMTTYPE=image/jpeg:https://alertachiapas.com/wp-content/uploads/2025/01/edb93278-54d6-493f-8765-1011bc464942.jpg
END:VEVENT
END:VCALENDAR