BEGIN:VCALENDAR
VERSION:2.0
PRODID:-//Alerta Chiapas - ECPv6.15.20//NONSGML v1.0//EN
CALSCALE:GREGORIAN
METHOD:PUBLISH
X-WR-CALNAME:Alerta Chiapas
X-ORIGINAL-URL:https://alertachiapas.com
X-WR-CALDESC:Eventos para Alerta Chiapas
REFRESH-INTERVAL;VALUE=DURATION:PT1H
X-Robots-Tag:noindex
X-PUBLISHED-TTL:PT1H
BEGIN:VTIMEZONE
TZID:America/Mexico_City
BEGIN:STANDARD
TZOFFSETFROM:-0600
TZOFFSETTO:-0600
TZNAME:CST
DTSTART:20240101T000000
END:STANDARD
END:VTIMEZONE
BEGIN:VEVENT
DTSTART;TZID=America/Mexico_City:20250119T190000
DTEND;TZID=America/Mexico_City:20250119T233000
DTSTAMP:20260420T084039
CREATED:20250104T020529Z
LAST-MODIFIED:20250104T020529Z
UID:10000199-1737313200-1737329400@alertachiapas.com
SUMMARY:Anuncio del Pueblo: Chuntás llenan de vida las calles de Chiapa de Corzo
DESCRIPTION:El 19 de enero\, Chiapa de Corzo se viste de tradición con el Anuncio del Pueblo\, uno de los momentos más vibrantes de la Fiesta Grande de Enero 2025. En este día\, las chuntás toman las calles para alegrar con su singular presencia y recordar el espíritu de solidaridad y comunidad que define a esta festividad. \nLas chuntás\, figuras emblemáticas de la fiesta\, representan a las sirvientas indígenas que ayudaron a Doña María de Angulo en su misión de asistir a los más necesitados. Vestidas con faldas coloridas\, blusas bordadas y sus tradicionales canastas\, recorren las calles al ritmo de la música de tambor y pito\, creando un ambiente lleno de energía y alegría. \nEl Anuncio del Pueblo es una celebración que destaca la riqueza cultural de Chiapas\, donde se combina la devoción\, el folclor y la historia. Este evento no solo enaltece las raíces chiapanecas\, sino que también invita a locales y visitantes a ser parte de una tradición que une generaciones. \n📌 Detalles del evento: \n\nEvento: Anuncio del Pueblo con Chuntás\nFecha: 19 de enero de 2025\nLugar: Calles principales de Chiapa de Corzo\nHora: Durante el día\nRecomendación: No te pierdas este desfile lleno de música\, color y tradición\, y llega temprano para disfrutar cada detalle.\n\n¡Únete al Anuncio del Pueblo y vive la magia de las chuntás en la Fiesta Grande!
URL:https://alertachiapas.com/evento/anuncio-del-pueblo-chuntas-llenan-de-vida-las-calles-de-chiapa-de-corzo/
LOCATION:Centro histórico de Chiapa de Corzo\, Chiapa de Corzo\, Chiapas\, Mexico
CATEGORIES:Evento general
ATTACH;FMTTYPE=image/jpeg:https://alertachiapas.com/wp-content/uploads/2025/01/1b1271fd-9360-4c0f-89f2-5d95477d84f4.jpg
END:VEVENT
END:VCALENDAR