BEGIN:VCALENDAR
VERSION:2.0
PRODID:-//Alerta Chiapas - ECPv6.15.20//NONSGML v1.0//EN
CALSCALE:GREGORIAN
METHOD:PUBLISH
X-WR-CALNAME:Alerta Chiapas
X-ORIGINAL-URL:https://alertachiapas.com
X-WR-CALDESC:Eventos para Alerta Chiapas
REFRESH-INTERVAL;VALUE=DURATION:PT1H
X-Robots-Tag:noindex
X-PUBLISHED-TTL:PT1H
BEGIN:VTIMEZONE
TZID:America/Mexico_City
BEGIN:STANDARD
TZOFFSETFROM:-0600
TZOFFSETTO:-0600
TZNAME:CST
DTSTART:20240101T000000
END:STANDARD
END:VTIMEZONE
BEGIN:VEVENT
DTSTART;TZID=America/Mexico_City:20250112T080000
DTEND;TZID=America/Mexico_City:20250116T170000
DTSTAMP:20260424T171427
CREATED:20250107T224811Z
LAST-MODIFIED:20250107T224811Z
UID:10000215-1736668800-1737046800@alertachiapas.com
SUMMARY:¡Vive la Feria Villaflores 2025! Grandes artistas y diversión para todos
DESCRIPTION:La Feria Villaflores 2025 está aquí para llenar de música y diversión a toda la familia. Del 12 al 16 de enero\, disfruta de eventos gratuitos en el Teatro del Pueblo con presentaciones de grandes artistas y actividades para todos. 🌟🎶 \n📅 Cartelera de artistas: \n\n12 de enero: Chico Che Chico. 🎹💃\n13 de enero: Alberto Barros con un Tributo a la Salsa Colombiana. 🎺🔥\n14 de enero: Aleks Syntek. 🎼🎤\n15 de enero: Kumbia Kings. 🕺🎶\n16 de enero: Julión Álvarez y su Norteño Banda. 🎸🤠\n\n🎡 Además de la música\, la feria contará con juegos mecánicos\, deliciosa gastronomía local y muchas sorpresas. No te pierdas esta gran fiesta que une tradición y entretenimiento. \n📍 ¿Dónde?\nEn el Teatro del Pueblo\, Villaflores\, Chiapas. \n🎉 Invitación especial:\nEl evento es completamente gratuito\, una oportunidad perfecta para disfrutar con amigos y familia. \nConcentrado del evento: \n\nLugar: Teatro del Pueblo\, Villaflores\, Chiapas.\nFechas: Del 12 al 16 de enero de 2025.\nDetalles: Eventos gratuitos con artistas de renombre\, juegos mecánicos y gastronomía.\n\n¡Ven a la Feria Villaflores y vive momentos inolvidables! 🎡✨
URL:https://alertachiapas.com/evento/vive-la-feria-villaflores-2025-grandes-artistas-y-diversion-para-todos/
LOCATION:Teatro del Pueblo\, Villaflores\, Av. 1a. Sur Ote. Col. Centro\, Fraylescano\, Villaflores\, chiapas\, Mexico
CATEGORIES:Evento general
ATTACH;FMTTYPE=image/jpeg:https://alertachiapas.com/wp-content/uploads/2025/01/49132577_1796001863843033_1054488211461505024_n.jpg
END:VEVENT
BEGIN:VEVENT
DTSTART;TZID=America/Mexico_City:20250114T120000
DTEND;TZID=America/Mexico_City:20250114T190000
DTSTAMP:20260424T171427
CREATED:20250103T221208Z
LAST-MODIFIED:20250103T221208Z
UID:10000195-1736856000-1736881200@alertachiapas.com
SUMMARY:Día de las Chiapanecas: Tradición y Elegancia en Chiapa de Corzo
DESCRIPTION:El 14 de enero\, Chiapa de Corzo se viste de gala para celebrar el Día de las Chiapanecas\, una de las tradiciones más bellas de la Fiesta Grande de Enero 2025. \nEste día está dedicado a las emblemáticas chiapanecas\, quienes con sus majestuosos trajes bordados llenos de colores vibrantes representan la riqueza cultural y artística de Chiapas. Las calles del pueblo se llenan de música\, danza y la imponente presencia de estas mujeres que con orgullo portan el traje que es símbolo de identidad chiapaneca. \nEl Día de las Chiapanecas incluye actividades como recorridos\, presentaciones culturales y danzas tradicionales\, donde las protagonistas son estas figuras representativas de la cultura local. Cada detalle del traje\, desde los bordados florales hasta los vuelos del tejido\, es una obra de arte que cuenta la historia de generaciones de artesanos chiapanecos. \nAdemás\, este evento es un homenaje a la belleza\, elegancia y fuerza de la mujer chiapaneca\, destacando su papel fundamental en la preservación de las tradiciones y costumbres del estado. \n📌 Detalles del evento: \n\nEvento: Día de las Chiapanecas\nFecha: 14 de enero de 2025\nLugar: Calles principales de Chiapa de Corzo\nHora: Desde medio día\nRecomendación: Llega temprano para disfrutar los desfiles y actividades culturales\, y no olvides tomar fotos de esta espectacular muestra de tradición.\n\n🎭 ¡Celebra la elegancia y orgullo de las chiapanecas en esta fecha inolvidable! 🌟
URL:https://alertachiapas.com/evento/dia-de-las-chiapanecas-tradicion-y-elegancia-en-chiapa-de-corzo/
LOCATION:Centro histórico de Chiapa de Corzo\, Chiapa de Corzo\, Chiapas\, Mexico
CATEGORIES:Evento general
ATTACH;FMTTYPE=image/jpeg:https://alertachiapas.com/wp-content/uploads/2025/01/fe72ffc0-9aab-450c-9f1a-d5807616dc9c.jpg
END:VEVENT
BEGIN:VEVENT
DTSTART;TZID=America/Mexico_City:20250114T120000
DTEND;TZID=America/Mexico_City:20250114T200000
DTSTAMP:20260424T171427
CREATED:20250113T231651Z
LAST-MODIFIED:20250113T231651Z
UID:10000228-1736856000-1736884800@alertachiapas.com
SUMMARY:¡Chiapanecas listas para celebrar el 14 de enero!
DESCRIPTION:La tradición se vive y se celebra en grande este 14 de enero con el evento especial de las Chiapanequitas\, una jornada llena de cultura\, música y convivencia. Este día estará marcado por momentos especiales que reflejan la riqueza de nuestras costumbres. \nEl itinerario incluye: \n\n12:00 AM: Reunión de Chiapanecas para dar inicio a este emotivo día.\n12:30 PM: Inauguración y bendición de la Casa Chiapaneca.\n1:00 PM: Celebración de la Santa Misa a cargo del párroco Jorge Alberto Ramírez Gutiérrez.\n2:00 PM a 4:00 PM: Una deliciosa comida tradicional de pepita con tazajo será servida para las Chiapanecas.\n4:00 PM: ¡Inicio del recorrido lleno de color\, alegría y tradición!\n7:00 PM: Baile y cena con tamalitos en la Casa Chiapaneca para cerrar con broche de oro.\n\nEste evento es una invitación para celebrar nuestras raíces\, rendir homenaje a nuestras tradiciones y compartir momentos inolvidables en comunidad. ¡No te lo pierdas! 🌟 \n\n📍 Lugar: Casa Chiapaneca.\n📅 Fecha: 14 de enero.\n⏰ Horarios:\n\nInicio: 12:00 AM (Reunión de Chiapanecas).\nCierre: 7:00 PM (Baile y cena).\n\n\n🎭 Actividades: Misa\, comida tradicional\, recorrido y baile.\n\n¡Viva la Chiapaneca bonita y nuestras tradiciones! 🥁💃
URL:https://alertachiapas.com/evento/chiapanecas-listas-para-celebrar-el-14-de-enero/
LOCATION:Centro histórico de Chiapa de Corzo\, Chiapa de Corzo\, Chiapas\, Mexico
CATEGORIES:Evento general
ATTACH;FMTTYPE=image/jpeg:https://alertachiapas.com/wp-content/uploads/2025/01/e868e606-f511-4150-a294-dc366ee8eb23.jpg
END:VEVENT
BEGIN:VEVENT
DTSTART;TZID=America/Mexico_City:20250114T190000
DTEND;TZID=America/Mexico_City:20250114T233000
DTSTAMP:20260424T171427
CREATED:20250113T233539Z
LAST-MODIFIED:20250113T233539Z
UID:10000229-1736881200-1736897400@alertachiapas.com
SUMMARY:¡Anuncio a San Antonio Abad en Chiapa de Corzo!
DESCRIPTION:La tradición y la devoción se unen este 14 de enero en el esperado Anuncio a San Antonio Abad en Chiapa de Corzo. Un evento lleno de fervor religioso y cultura que promete ser un momento especial para los asistentes. \nLa cita es a las 7:00 PM en la Av. Coronel Salvador Urbina #49\, entre las calles Santos Degollados y Iturbide\, donde se reunirán devotos y visitantes para celebrar esta emblemática tradición. \nEl evento es organizado por La Pandilla de la Tía They\, quienes te invitan a participar y ser parte de este importante acto lleno de espiritualidad y color. \nNo pierdas la oportunidad de vivir una experiencia que resalta la identidad y las raíces culturales de Chiapas. ¡Te esperamos! 🌟🙌} \n\n📍 Lugar: Av. Coronel Salvador Urbina #49\, entre C. Santos Degollados y C. Iturbide\, Chiapa de Corzo.\n📅 Fecha: 14 de enero.\n⏰ Hora: 7:00 PM.\n🎭 Actividad: Anuncio a San Antonio Abad\, organizado por La Pandilla de la Tía They.\n\nSíguenos en nuestras redes sociales para más información! 📲✨
URL:https://alertachiapas.com/evento/anuncio-a-san-antonio-abad-en-chiapa-de-corzo/
LOCATION:Casa de la Tía They\, Av. Coronel Salvador Urbina #49 entre las calles Santos Degollado e Iturbide\, tuxtla gutiérrez\, Chiapas\, Mexico
CATEGORIES:Evento general
ATTACH;FMTTYPE=image/png:https://alertachiapas.com/wp-content/uploads/2025/01/Captura-de-pantalla-2025-01-13-a-las-5.19.16 p.m.png
END:VEVENT
BEGIN:VEVENT
DTSTART;TZID=America/Mexico_City:20250114T190000
DTEND;TZID=America/Mexico_City:20250114T233000
DTSTAMP:20260424T171427
CREATED:20250113T234522Z
LAST-MODIFIED:20250113T234522Z
UID:10000230-1736881200-1736897400@alertachiapas.com
SUMMARY:¡Pandilla "Los Amigos de Chelelo" en la Fiesta Grande!
DESCRIPTION:La pandilla “Los Amigos de Chelelo” del barrio Benito Juárez te invita a formar parte de sus tradicionales recorridos de chuntá durante la Fiesta Grande de Chiapa de Corzo. Prepárate para disfrutar de días llenos de música\, baile y la magia de esta tradición chiapaneca. \n📅 Los recorridos se llevarán a cabo los días 14 y 16 de enero\, recorriendo las calles con alegría y entusiasmo. Además\, no te pierdas la salida de doña María de Angulo y el gran baile que se realizará el día 20 de enero en la Av. Lázaro Cárdenas\, entre calle Allende y Rayón. \n🙌 Ven con tu familia\, amigos y mucho ánimo para vivir esta experiencia única que resalta nuestras raíces y fortalece el espíritu comunitario. ¡No faltes! \n📍 Lugar: Av. Lázaro Cárdenas\, entre calle Allende y Rayón\, Chiapa de Corzo\, Chiapas.\n📅 Fechas: \n\nRecorridos: 11\, 14 y 16 de enero.\nSalida de doña María de Angulo y baile: 20 de enero.\n⏰ Hora: Según recorrido\, baile el día 20 de enero.\n🎭 Detalles: Tradicionales recorridos de chuntá y gran baile en la Fiesta Grande 2025.
URL:https://alertachiapas.com/evento/pandilla-los-amigos-de-chelelo-en-la-fiesta-grande/
LOCATION:Centro histórico de Chiapa de Corzo\, Chiapa de Corzo\, Chiapas\, Mexico
CATEGORIES:Evento general
ATTACH;FMTTYPE=image/jpeg:https://alertachiapas.com/wp-content/uploads/2025/01/IMG_7739-1.jpg
END:VEVENT
BEGIN:VEVENT
DTSTART;TZID=America/Mexico_City:20250114T193000
DTEND;TZID=America/Mexico_City:20250114T233000
DTSTAMP:20260424T171427
CREATED:20250109T231214Z
LAST-MODIFIED:20250109T231256Z
UID:10000220-1736883000-1736897400@alertachiapas.com
SUMMARY:Pandilla Amigos de Manuel del Barrio Benito Juárez te invita
DESCRIPTION:La Pandilla Amigos de Manuel del Barrio Benito Juárez te invita a disfrutar de las festividades de La Chunta\, una celebración llena de alegría\, color y tradición en Chiapa de Corzo. \nEl recorrido del anuncio estará cargado de música\, baile y momentos inolvidables. ¡Acompaña a la pandilla en estas fechas especiales! \n📅 Programa del recorrido: \n\n14 de enero – 8:00 PM: Anuncio de San Antonio Abad.\n16 de enero – 8:00 PM: Anuncio de San Sebastián.\n22 de enero – 2:00 PM: Bajada de los carros alegóricos.\n\nEl punto de reunión será en Calle Libertad #556\, Barrio Benito Juárez. \nVive esta tradición única que enaltece nuestras raíces culturales y comparte la alegría de La Chunta con familiares y amigos. ¡No te lo pierdas! 🌟 \n 
URL:https://alertachiapas.com/evento/pandilla-amigos-de-manuel-del-barrio-benito-juarez-te-invita/
LOCATION:Casa de Pandilla de Manuelito\, Calle Libertad #556\, Barrio Benito Juárez\, Chiapa de Corzo\, Chiapas\, Mexico
CATEGORIES:Evento general
ATTACH;FMTTYPE=image/jpeg:https://alertachiapas.com/wp-content/uploads/2025/01/472115735_122117525738601625_7940063532235337798_n.jpg
END:VEVENT
END:VCALENDAR