BEGIN:VCALENDAR
VERSION:2.0
PRODID:-//Alerta Chiapas - ECPv6.15.20//NONSGML v1.0//EN
CALSCALE:GREGORIAN
METHOD:PUBLISH
X-ORIGINAL-URL:https://alertachiapas.com
X-WR-CALDESC:Eventos para Alerta Chiapas
REFRESH-INTERVAL;VALUE=DURATION:PT1H
X-Robots-Tag:noindex
X-PUBLISHED-TTL:PT1H
BEGIN:VTIMEZONE
TZID:America/Mexico_City
BEGIN:STANDARD
TZOFFSETFROM:-0600
TZOFFSETTO:-0600
TZNAME:CST
DTSTART:20240101T000000
END:STANDARD
END:VTIMEZONE
BEGIN:VEVENT
DTSTART;TZID=America/Mexico_City:20250105T090000
DTEND;TZID=America/Mexico_City:20250105T120000
DTSTAMP:20260420T084152
CREATED:20250103T002140Z
LAST-MODIFIED:20250103T002140Z
UID:10000187-1736067600-1736078400@alertachiapas.com
SUMMARY:🎉 ¡Celebra el Día de Reyes en el Centro de Convivencia Infantil de Tuxtla! 👑🎠
DESCRIPTION:Este domingo 5 de enero\, ven con toda la familia a disfrutar de un Día de Reyes mágico y lleno de diversión en el Centro de Convivencia Infantil de Tuxtla Gutiérrez. 🧸✨ De 9:00 a 12:00 horas\, los niños podrán disfrutar de una increíble variedad de juegos ¡totalmente gratis! \n🚂 Trencito\n🎯 Gotcha\n🎡 Juegos mecánicos\n🏎️ Cuatrimotos y carritos eléctricos\n🐴 Paseos en pony\n🎈 Alberca de pelotas\n🏍️ Cuadriciclos\n🚤 Lanchitas \nAdemás\, el centro tendrá un horario especial por el evento de 8:00 a.m. a 10:00 p.m.\, para que aproveches el día completo con tus seres queridos. No te pierdas la oportunidad de regalar sonrisas y momentos inolvidables a los pequeños en esta fecha tan especial. 🥳 \nConcentrado del evento:\n📍 Lugar: Centro de Convivencia Infantil\, Tuxtla Gutiérrez\n📅 Fecha: Domingo 5 de enero\n⏰ Horario de juegos gratis: 9:00 a 12:00 horas\n⏰ Horario especial: 8:00 a.m. – 10:00 p.m.\n🎡 Actividades: Trencito\, gotcha\, juegos mecánicos\, cuatrimotos\, carritos eléctricos\, pony\, alberca de pelotas\, cuadriciclos y lanchitas. \n¡Te esperamos para celebrar juntos! 👑✨
URL:https://alertachiapas.com/evento/%f0%9f%8e%89-celebra-el-dia-de-reyes-en-el-centro-de-convivencia-infantil-de-tuxtla-%f0%9f%91%91%f0%9f%8e%a0/
LOCATION:Centro de Convivencia Infantil\, Calzada al sumidero\, Las Granjas\, tuxtla gutiérrez\, Chiapas\, 29000\, Mexico
CATEGORIES:Evento general
ATTACH;FMTTYPE=image/jpeg:https://alertachiapas.com/wp-content/uploads/2025/01/b50ac18c-5d52-4dde-aef3-2a1d89353084.jpg
END:VEVENT
BEGIN:VEVENT
DTSTART;TZID=America/Mexico_City:20250105T110000
DTEND;TZID=America/Mexico_City:20250105T180000
DTSTAMP:20260420T084152
CREATED:20250104T023558Z
LAST-MODIFIED:20250104T023558Z
UID:10000205-1736074800-1736100000@alertachiapas.com
SUMMARY:¡Reyes en el espacio! Una aventura mágica para toda la familia
DESCRIPTION:Este domingo 5 de enero\, el Planetario Tuxtla te invita a una celebración llena de magia\, diversión y conocimiento con el evento “Reyes en el espacio”. Disfruta de una experiencia única que combina la emoción de los Reyes Magos con el fascinante universo del espacio. \nCon múltiples horarios de actividades\, podrás sumergirte en un día repleto de sorpresas\, entretenimiento y aprendizaje. Además\, la entrada será completamente gratuita para niñas y niños menores de 12 años 🎉. ¡No te pierdas la oportunidad de vivir esta celebración tan especial en familia! \nHorarios: \n\n11:30 hrs\n13:00 hrs\n14:30 hrs\n16:00 hrs\n17:30 hrs\n18:00 hrs\n\n¡Habrá sorpresas especiales para todos los asistentes! 🌟 \nDetalles del evento:\n📍 Lugar: Planetario Tuxtla\n📅 Fecha: Domingo 5 de enero\n⏰ Horario: De 11:30 a.m. a 6:00 p.m. (diferentes horarios de actividades)\n🎟 Entrada: Gratuita para niñas y niños menores de 12 años\n✨ Extras: Sorpresas especiales y actividades llenas de conocimiento y diversión
URL:https://alertachiapas.com/evento/reyes-en-el-espacio-una-aventura-magica-para-toda-la-familia/
LOCATION:Planetario Tuxtla\, 5a. Avenida Nte. Ote. s/n\, Parque Madero\, Zona Sin Asignación de Nombre de Col 24\, tuxtla gutiérrez\, Chiapas\, 29000\, Mexico
CATEGORIES:Evento general
ATTACH;FMTTYPE=image/jpeg:https://alertachiapas.com/wp-content/uploads/2025/01/472160737_1028429462632409_5329761412260889601_n.jpg
END:VEVENT
END:VCALENDAR