BEGIN:VCALENDAR
VERSION:2.0
PRODID:-//Alerta Chiapas - ECPv6.15.20//NONSGML v1.0//EN
CALSCALE:GREGORIAN
METHOD:PUBLISH
X-ORIGINAL-URL:https://alertachiapas.com
X-WR-CALDESC:Eventos para Alerta Chiapas
REFRESH-INTERVAL;VALUE=DURATION:PT1H
X-Robots-Tag:noindex
X-PUBLISHED-TTL:PT1H
BEGIN:VTIMEZONE
TZID:America/Mexico_City
BEGIN:STANDARD
TZOFFSETFROM:-0600
TZOFFSETTO:-0600
TZNAME:CST
DTSTART:20230101T000000
END:STANDARD
END:VTIMEZONE
BEGIN:VEVENT
DTSTART;TZID=America/Mexico_City:20241219T120000
DTEND;TZID=America/Mexico_City:20241221T200000
DTSTAMP:20260424T074128
CREATED:20241218T001459Z
LAST-MODIFIED:20241218T064128Z
UID:10000167-1734609600-1734811200@alertachiapas.com
SUMMARY:🎉 ¡3ra Expo Venta de Productos Marca Chiapas! 🌟
DESCRIPTION:Del 19 al 21 de diciembre\, Tuxtla Gutiérrez será sede de la 3ra Expo Venta de Productos Marca Chiapas 🛍️. Esta expo reunirá una amplia variedad de productos chiapanecos\, como café orgánico\, mermeladas\, salsas y más\, todos elaborados bajo la reconocida marca “México Chiapas Original”. \nEl evento se llevará a cabo en la Terminal Autobuses Aexa\, ubicada en la 9a. Sur Oriente 2044\, Caminera\, de 12:00 a 20:00 horas. 🌎 \nOrganizada por la Secretaría de Economía y del Trabajo\, en colaboración con Estrategia Marca Chiapas y Autobuses Aexa\, esta expo busca impulsar el talento local y promover productos de alta calidad\, elaborados por manos chiapanecas. 🤝 \n¡No te lo pierdas y apoya el comercio local! 💪 \n\n📌 Lugar: Terminal Autobuses Aexa\, 9a. Sur Oriente 2044\, Caminera\, Tuxtla Gutiérrez\, Chiapas.\n📅 Fecha: 19 al 21 de diciembre.\n🕛 Hora: 12:00 a 20:00 hrs.\n🔖 Organiza: Secretaría de Economía y del Trabajo.\n✨ Colaboran: Estrategia Marca Chiapas y Autobuses Aexa.
URL:https://alertachiapas.com/evento/%f0%9f%8e%89-3ra-expo-venta-de-productos-marca-chiapas-%f0%9f%8c%9f/
LOCATION:Terminal Autobuses AEXA\, 9a. Sur Ote. 2044\, Caminera\, Tuxtla Gutierrez\, Chiapas\, 29000\, Mexico
CATEGORIES:Evento general
ATTACH;FMTTYPE=image/jpeg:https://alertachiapas.com/wp-content/uploads/2024/12/77f68b04-f984-464c-996c-3752ae360e98.jpg
END:VEVENT
BEGIN:VEVENT
DTSTART;TZID=America/Mexico_City:20241220T110000
DTEND;TZID=America/Mexico_City:20241222T200000
DTSTAMP:20260424T074128
CREATED:20241218T232658Z
LAST-MODIFIED:20241218T232658Z
UID:10000176-1734692400-1734897600@alertachiapas.com
SUMMARY:🎉 "El Mequé": La fiesta de todos en Chiapas 🐆✨
DESCRIPTION:Del 20 al 22 de diciembre\, celebra la Chiapanequidad en la edición especial de “El Mequé”\, una fiesta que enaltece nuestras tradiciones y cultura. 🌟 \nEl evento arranca en Zinacantán el 20 de diciembre y continúa en Tuxtla Gutiérrez del 20 al 22 de diciembre\, con actividades que llenarán de color y alegría esta gran celebración. \nDisfruta de: \n\n🎶 Música tradicional y danzas chiapanecas.\n🎨 Exposiciones de arte\, cultura y tradiciones.\n🐆 Expresiones únicas de la identidad chiapaneca.\n\nUna jornada para disfrutar en familia y rendir homenaje a nuestras raíces. ¡No faltes\, la fiesta es para todos! 🎊 \n📍 Lugar: Zinacantán (20 de diciembre) | Tuxtla Gutiérrez (20 al 22 de diciembre)\n⏰ Hora: 11:00 A.M. – 8:00 P.M.\n🎉 Actividad: Celebración cultural\, danzas\, música y tradiciones.\n✨ Organizan: Secretaría de Turismo y Consejo Estatal para las Culturas y las Artes de Chiapas. \n¡Ven y vive el espíritu chiapaneco en “El Mequé”! 🌿🎶
URL:https://alertachiapas.com/evento/%f0%9f%8e%89-el-meque-la-fiesta-de-todos-en-chiapas-%f0%9f%90%86%e2%9c%a8/
LOCATION:Parque Bicentenario\, Tuxtla Gutiérrez\, Chiapas\, 29000\, Mexico
CATEGORIES:Evento general
ATTACH;FMTTYPE=image/jpeg:https://alertachiapas.com/wp-content/uploads/2024/12/470584726_927557706228079_292150860418375248_n.jpg
END:VEVENT
BEGIN:VEVENT
DTSTART;TZID=America/Mexico_City:20241221T090000
DTEND;TZID=America/Mexico_City:20241221T160000
DTSTAMP:20260424T074128
CREATED:20241220T233853Z
LAST-MODIFIED:20241220T233853Z
UID:10000183-1734771600-1734796800@alertachiapas.com
SUMMARY:🌵🎄 ¡Disfruta el Mini Tianguis Navideño de Plantófilos!
DESCRIPTION:Este sábado 21 de diciembre\, vive una experiencia única en el Mini Tianguis Navideño organizado por Plantófilos Anónimos. Este evento especial reunirá a amantes de las plantas en un espacio dedicado a la venta de plantas\, insumos y talleres que no te puedes perder. \nEl tianguis se llevará a cabo en el Vivero Plantarte\, ubicado en Av. Mérida No. 39\, entre calle Taxco y San Cristóbal\, en el Fraccionamiento Residencial La Hacienda\, Tuxtla Gutiérrez\, Chiapas. \nPodrás encontrar una gran variedad de expositores como:\n🌵 Yaxal Na\n🌸 Magni Flora\n🌿 Romero\n🌵 Cactus-Dent\n…¡y muchos más que llenarán tu día de naturaleza y color! \nEl evento será de 9:00 a. m. a 4:00 p. m.\, así que no olvides agendarlo. Aprovecha para adquirir plantas únicas y productos ideales para esta temporada navideña. \n¡Asiste con tu familia y amigos! 🎅✨ Este es el evento perfecto para disfrutar del espíritu navideño rodeado de plantas y buena vibra. \n📍 Lugar: Vivero Plantarte\, Av. Mérida No. 39\, entre calle Taxco y San Cristóbal\, Fracc. Residencial La Hacienda\, Tuxtla Gutiérrez\, Chiapas.\n📅 Fecha: Sábado 21 de diciembre de 2024.\n⏰ Horario: De 9:00 a. m. a 4:00 p. m.\n🎟️ Detalles: Mini Tianguis Navideño con venta de plantas\, insumos y talleres.
URL:https://alertachiapas.com/evento/%f0%9f%8c%b5%f0%9f%8e%84-disfruta-el-mini-tianguis-navideno-de-plantofilos/
LOCATION:Vivero Plantarte\, Av. Mérida No. 39\, entre calle Taxco y San Cristóbal\, Fracc. Residencial La Hacienda\, tuxtla gutiérrez\, Chiapas\, 29000\, Mexico
CATEGORIES:Evento general
ATTACH;FMTTYPE=image/jpeg:https://alertachiapas.com/wp-content/uploads/2024/12/IMG_6706.jpg
END:VEVENT
BEGIN:VEVENT
DTSTART;TZID=America/Mexico_City:20241221T170000
DTEND;TZID=America/Mexico_City:20241221T200000
DTSTAMP:20260424T074128
CREATED:20241221T000035Z
LAST-MODIFIED:20241221T000035Z
UID:10000186-1734800400-1734811200@alertachiapas.com
SUMMARY:💃✨ ¡Festival Amistades Folklóricas: Vive la 2da Edición!
DESCRIPTION:Este 21 de diciembre\, el Teatro Francisco I. Madero se llenará de color\, tradición y cultura con la segunda edición del Festival Amistades Folklóricas\, un evento que celebra la riqueza del folclor mexicano. \nEl festival contará con la participación especial del grupo invitado Nbayashandó\, reconocido por su talento en la danza tradicional\, y la presentación estelar de la Agrupación Folklórica Bonampak’k\, quienes prometen un espectáculo lleno de pasión y orgullo por nuestras raíces. \nLa cita es a las 5:00 p. m.\, y el acceso tiene una cuota de recuperación de $100.00\, que podrás adquirir directamente con los integrantes de la agrupación o en taquilla el día del evento. \nEste es un evento ideal para disfrutar con la familia y amigos\, y sumergirse en la magia de las danzas tradicionales que reflejan la diversidad cultural de nuestro país. ¡No te lo pierdas! 🌟 \n📍 Lugar: Teatro Francisco I. Madero.\n📅 Fecha: 21 de diciembre.\n⏰ Hora: 5:00 p. m.\n🎟️ Detalles: 2da edición del Festival Amistades Folklóricas con la participación de Nbayashandó y la Agrupación Folklórica Bonampak’k.\n💵 Cuota de recuperación: $100.00 (venta con integrantes de la agrupación y en taquilla).
URL:https://alertachiapas.com/evento/%f0%9f%92%83%e2%9c%a8-festival-amistades-folkloricas-vive-la-2da-edicion/
LOCATION:Teatro de la Ciudad Francisco I Madero\, Teatro Francisco I. Madero\, Av. 2a. Nte. Ote.\, San Marcos\, Tuxtla Gutierrez\, Chis.\, 29000\, Mexico
CATEGORIES:Evento general
ATTACH;FMTTYPE=image/jpeg:https://alertachiapas.com/wp-content/uploads/2024/12/469822053_893763882865581_1147541479369743458_n.jpg
END:VEVENT
BEGIN:VEVENT
DTSTART;TZID=America/Mexico_City:20241221T173000
DTEND;TZID=America/Mexico_City:20241221T193000
DTSTAMP:20260424T074128
CREATED:20241218T004359Z
LAST-MODIFIED:20241218T064550Z
UID:10000171-1734802200-1734809400@alertachiapas.com
SUMMARY:🔥 Ceremonia de Fuego Viejo: Celebra el invierno y cierra el año con energía renovada 🔥
DESCRIPTION:Este sábado 21 de diciembre\, el Centro Cultural Holistiko invita a la comunidad a participar en la Ceremonia de Fuego Viejo\, un evento espiritual y energético para dar la bienvenida al invierno y cerrar el ciclo anual. \n✨ Durante la ceremonia podrás disfrutar de:\n🌲 Purificación energética\n⭐ Meditación\n🌲 Ofrendas\n⭐ Dinámicas\n🌲 Rituales\n⭐ Círculo de cantos \n🔥 La noche promete un ambiente de conexión espiritual\, música alrededor del fuego y actividades que fortalecerán el inicio de un nuevo ciclo. Se pide asistir con ropa blanca como símbolo de pureza y renovación. \n📅 Detalles del evento: \n\nFecha: Sábado\, 21 de diciembre\nHora: A partir de la tarde/noche\nLugar: Centro Cultural Holistiko\nDirección: 12 norte ote #1042\, Las Delicias\nRecomendación: Asistir de blanco\nContacto: 9612426066\n\n¡No te pierdas esta oportunidad para despedir el año con buena energía y conectar contigo mismo y la comunidad! ✨
URL:https://alertachiapas.com/evento/%f0%9f%94%a5-ceremonia-de-fuego-viejo-celebra-el-invierno-y-cierra-el-ano-con-energia-renovada-%f0%9f%94%a5/
LOCATION:Centro Cultural Holistiko\, Privada 12 Nte. Ote. 1042\, Las Delicias\, tuxtla gutiérrez\, Chiapas\, 29000
CATEGORIES:Evento general
ATTACH;FMTTYPE=image/jpeg:https://alertachiapas.com/wp-content/uploads/2024/12/469894878_1127175349418298_6869887981965267470_n.jpg
END:VEVENT
END:VCALENDAR