BEGIN:VCALENDAR
VERSION:2.0
PRODID:-//Alerta Chiapas - ECPv6.15.20//NONSGML v1.0//EN
CALSCALE:GREGORIAN
METHOD:PUBLISH
X-ORIGINAL-URL:https://alertachiapas.com
X-WR-CALDESC:Eventos para Alerta Chiapas
REFRESH-INTERVAL;VALUE=DURATION:PT1H
X-Robots-Tag:noindex
X-PUBLISHED-TTL:PT1H
BEGIN:VTIMEZONE
TZID:America/Mexico_City
BEGIN:STANDARD
TZOFFSETFROM:-0600
TZOFFSETTO:-0600
TZNAME:CST
DTSTART:20230101T000000
END:STANDARD
END:VTIMEZONE
BEGIN:VEVENT
DTSTART;VALUE=DATE:20241213
DTEND;VALUE=DATE:20241221
DTSTAMP:20260422T211922
CREATED:20241213T025338Z
LAST-MODIFIED:20241213T025338Z
UID:10000152-1734048000-1734739199@alertachiapas.com
SUMMARY:🎁 ¡Colecta Navideña para Niñas y Niños en Vulnerabilidad! 🎄
DESCRIPTION:La Fundación Unidas por la Sangre te invita a ser parte de su Colecta Navideña y llevar alegría a niñas y niños en estado de vulnerabilidad durante esta temporada navideña. 🎅✨ \nEste noble evento tiene como objetivo reunir juguetes nuevos\, con especial énfasis en juguetes educativos y sin baterías\, para fomentar el aprendizaje y la diversión responsable. 🎨📚 \nHaz la diferencia en esta Navidad y contribuye con un regalo lleno de amor. Tu apoyo marcará una gran sonrisa en quienes más lo necesitan. 💖🎁 \nDatos del evento: \n📍 Centro de acopio: Boulevard Belisario Domínguez\, entre Santa María y 12 de octubre #90\, Col. Bienestar Social\, Tuxtla Gutiérrez\, Chiapas.\n📅 Fechas: Hasta el 20 de diciembre de 2024. \n¡Sé parte de esta hermosa causa! 🌟
URL:https://alertachiapas.com/evento/%f0%9f%8e%81-colecta-navidena-para-ninas-y-ninos-en-vulnerabilidad-%f0%9f%8e%84/
LOCATION:Centro de Acopio Fundación Unidas por la Sangre\, Boulevard Belisario Domínguez\, entre Santa María y 12 de octubre #90\, Col. Bienestar Social\, tuxtla gutiérrez\, Chiapas\, 29000\, Mexico
CATEGORIES:Evento general
ATTACH;FMTTYPE=image/webp:https://alertachiapas.com/wp-content/uploads/2024/12/468338011_995531032618619_8152154266821728950_n.webp
END:VEVENT
BEGIN:VEVENT
DTSTART;TZID=America/Mexico_City:20241213T180000
DTEND;TZID=America/Mexico_City:20241213T193000
DTSTAMP:20260422T211922
CREATED:20241209T221410Z
LAST-MODIFIED:20241209T233953Z
UID:10000146-1734112800-1734118200@alertachiapas.com
SUMMARY:¡Concurso Municipal de Oratoria en Tuxtla! 🎤✨
DESCRIPTION:El Instituto Tuxtleco de Arte y Cultura (ITAC) invita a todos los amantes de la palabra y la expresión oral al Concurso Municipal de Oratoria\, donde podrás mostrar tu talento\, creatividad y amor por nuestra ciudad. 🌆 \nEste evento busca resaltar la importancia de la oratoria como herramienta para transmitir ideas\, emociones y fortalecer nuestra identidad cultural. Además\, ¡habrá atractivos premios en efectivo! 💰 \n🎖️ Premios: \n\n🥇 Primer lugar: $3\,000 pesos.\n🥈 Segundo lugar: $2\,000 pesos.\n🥉 Tercer lugar: $1\,000 pesos.\n\n🗓️ Fechas importantes: \n\n📑 Cierre de convocatoria: 11 de diciembre de 2024.\n🎙️ Realización del concurso: 13 de diciembre de 2024.\n\n🎙️ Detalles del evento: \n\n⏰ Hora: 6:00 p.m.\n📍 Lugar: Palacio Municipal de Tuxtla Gutiérrez.\n\n¡Anímate a participar o asistir para apoyar a los oradores y disfrutar de una tarde de inspiración! 🗣️👏
URL:https://alertachiapas.com/evento/concurso-municipal-de-oratoria-en-tuxtla-%f0%9f%8e%a4%e2%9c%a8/
LOCATION:Palacio Municipal de Tuxtla Gutierrez\, Tuxtla Gutiérrez\, Chiapas\, 29000\, Mexico
CATEGORIES:Evento general
ATTACH;FMTTYPE=image/jpeg:https://alertachiapas.com/wp-content/uploads/2024/12/IMG_6831.jpg
END:VEVENT
BEGIN:VEVENT
DTSTART;TZID=America/Mexico_City:20241213T193000
DTEND;TZID=America/Mexico_City:20241213T233000
DTSTAMP:20260422T211922
CREATED:20241205T233839Z
LAST-MODIFIED:20241205T233839Z
UID:10000138-1734118200-1734132600@alertachiapas.com
SUMMARY:🎉 ¡Gran Cena Gala con causa! ✨
DESCRIPTION:La Universidad Autónoma de Chiapas celebra medio siglo de compromiso\, esfuerzo y logros con un evento único: la Cena Gala a beneficio de la Fundación UNACH. Este evento especial reúne a la comunidad para conmemorar 50 años de sueños alcanzados\, fortaleciendo a la institución y su impacto en la sociedad chiapaneca. \nLa cita es el próximo 13 de diciembre de 2024\, en el Salón Mozé a partir de las 7:30 pm. Los asistentes disfrutarán de música en vivo\, un menú de tres tiempos\, brindis de bienvenida y descorche\, en un ambiente lleno de elegancia y celebración. \n🎶 Este evento con causa es una oportunidad para apoyar la Fundación UNACH\, que trabaja incansablemente por el desarrollo educativo en la región. \n🔗 Para más información y reservaciones:\n📞 961 135 9619 \n\nLugar: Salón Mozé\nFecha: 13 de diciembre de 2024\nHora: 7:30 pm\nDetalles: Música en vivo\, menú de tres tiempos\, brindis de bienvenida y descorche.\n\n¡No te pierdas esta gran noche llena de emoción y propósito! 🌟
URL:https://alertachiapas.com/evento/%f0%9f%8e%89-gran-cena-gala-con-causa-%e2%9c%a8/
LOCATION:Mozé Eventos\, Carretera Panamericana y Calzada Campestre No. 5191\, chiapas\, 29000\, Mexico
CATEGORIES:Evento general
ATTACH;FMTTYPE=image/jpeg:https://alertachiapas.com/wp-content/uploads/2024/12/467636264_610936047925979_2247505979489894284_n.jpg
END:VEVENT
BEGIN:VEVENT
DTSTART;TZID=America/Mexico_City:20241213T210000
DTEND;TZID=America/Mexico_City:20241213T233000
DTSTAMP:20260422T211922
CREATED:20241213T043424Z
LAST-MODIFIED:20241213T043424Z
UID:10000161-1734123600-1734132600@alertachiapas.com
SUMMARY:🎶✨ ¡Techno y Drag en Nodo Art Bar! 🎧👑
DESCRIPTION:Este viernes 13 de diciembre\, prepárate para una noche de beats electrónicos y espectáculos inolvidables en el Nodo Art Bar. La velada promete ser única con la mezcla de Techno Witches y el increíble Show Drag de Zozaya Drag. 🎤💃 \nDisfruta de la música de talentosos DJs como Mad Amm\, Gaby de la Mora y Andy IJ\, quienes harán vibrar la pista de baile con los mejores ritmos techno. 🌟🎶 \nAdemás\, las promociones están imperdibles: \n\n¡No cover para ellas! 🥂\nMedias y cocteles para ellas a $20 (de 9:30 PM a 10:30 PM).\nCubetazo a $350 y Vitrolitros a $600. 🍹🎉\n📍 Lugar: Nodo Art Bar\, Andador de Guadalupe #5\, San Cristóbal de las Casas\, Chiapas.\n📅 Fecha: Viernes\, 13 de diciembre de 2024.\n🕘 Horario: 9:00 PM.\n\n¡Ven a vivir una experiencia nocturna única con música\, arte y mucho estilo! 🎧✨🎉
URL:https://alertachiapas.com/evento/%f0%9f%8e%b6%e2%9c%a8-techno-y-drag-en-nodo-art-bar-%f0%9f%8e%a7%f0%9f%91%91/
LOCATION:Nodo Art Bar\, Andador de Guadalupe #5\, San Cristóbal de Las Casas\, Chiapas\, Mexico
CATEGORIES:Evento general
ATTACH;FMTTYPE=image/jpeg:https://alertachiapas.com/wp-content/uploads/2024/12/470145760_10237397132413807_1135684618998323544_n.jpg
END:VEVENT
END:VCALENDAR