BEGIN:VCALENDAR
VERSION:2.0
PRODID:-//Alerta Chiapas - ECPv6.15.20//NONSGML v1.0//EN
CALSCALE:GREGORIAN
METHOD:PUBLISH
X-WR-CALNAME:Alerta Chiapas
X-ORIGINAL-URL:https://alertachiapas.com
X-WR-CALDESC:Eventos para Alerta Chiapas
REFRESH-INTERVAL;VALUE=DURATION:PT1H
X-Robots-Tag:noindex
X-PUBLISHED-TTL:PT1H
BEGIN:VTIMEZONE
TZID:America/Mexico_City
BEGIN:STANDARD
TZOFFSETFROM:-0600
TZOFFSETTO:-0600
TZNAME:CST
DTSTART:20230101T000000
END:STANDARD
END:VTIMEZONE
BEGIN:VEVENT
DTSTART;TZID=America/Mexico_City:20241204T190000
DTEND;TZID=America/Mexico_City:20241212T210000
DTSTAMP:20260422T174907
CREATED:20241204T221312Z
LAST-MODIFIED:20241204T221312Z
UID:10000130-1733338800-1734037200@alertachiapas.com
SUMMARY:🎉✨ Fiestas Patronales de la Inmaculada Concepción 2024🎶🎭
DESCRIPTION:Las Fiestas Patronales 2024 están aquí\, y este año vienen cargadas de música\, danza\, comedia y espectáculos para toda la familia. Hasta el 12 de diciembre\, no te pierdas esta serie de eventos llenos de tradición\, cultura y entretenimiento en un ambiente festivo que une a la comunidad. \nCada día habrá presentaciones únicas\, desde el nostálgico danzón de Bella Época y la espectacular danza folklórica de Nbayashando\, hasta la presentación musical de Dary Ojeda y la energía de la Banda 3-80. Además\, disfruta de eventos como la lucha libre\, bailable regional\, comedia\, shows infantiles y mucho más. 🎤💃🤹 \nEstos eventos destacan el talento local y la riqueza cultural de nuestra región\, culminando con actos especiales como la participación del Ministerio de Fátima\, música romántica\, y un show de payasos que encantará a chicos y grandes. \nConcentrado del evento:\n📍 Lugar: Fiestas Patronales (consultar cartelera para ubicación específica de cada actividad).\n📆 Fecha: Del 4 al 12 de diciembre de 2024.\n⏰ Hora: Varía según el evento (consultar cartelera).\n✨ Detalles: Música\, danza\, comedia\, eventos culturales y espectáculos para toda la familia. \n¡No te lo pierdas y celebra estas fiestas con alegría y tradición! 🌟🎉
URL:https://alertachiapas.com/evento/%f0%9f%8e%89%e2%9c%a8-fiestas-patronales-de-la-inmaculada-concepcion-2024%f0%9f%8e%b6%f0%9f%8e%ad/
LOCATION:Parroquia Inmaculada Concepción\, Calle Primera Pte. Sur 222\, Francisco I. Madero\, tuxtla gutiérrez\, Chiapas\, 29000\, Mexico
CATEGORIES:Evento general
ATTACH;FMTTYPE=image/jpeg:https://alertachiapas.com/wp-content/uploads/2024/12/WhatsApp-Image-2024-12-02-at-10.35.04-AM.jpeg
END:VEVENT
BEGIN:VEVENT
DTSTART;TZID=America/Mexico_City:20241205T080000
DTEND;TZID=America/Mexico_City:20241205T170000
DTSTAMP:20260422T174907
CREATED:20241205T234526Z
LAST-MODIFIED:20241205T234526Z
UID:10000139-1733385600-1733418000@alertachiapas.com
SUMMARY:🎄 ¡Llega Expo Camelot Navidad! Una convención épica en Chiapas 🎅
DESCRIPTION:Prepárate para vivir una experiencia llena de magia\, entretenimiento y mucho talento en la 35ª edición de la Expo Camelot en su edición navideña. Este evento reunirá a grandes figuras del doblaje y la cultura geek para ofrecerte un día inolvidable lleno de actividades y sorpresas. \nEntre los invitados de lujo se encuentran los reconocidos actores de doblaje:\n🎤 Pepe Toño Macías\, la voz detrás de personajes icónicos como Deadpool.\n🎤 Humberto Solórzano\, quien da vida a personajes emblemáticos de la animación. \nAdemás\, el evento contará con la participación de Lalumi Team WCS 2024\, expertos en cosplay que deslumbrarán con su creatividad y talento. \n📆 Cuándo: El próximo 7 de diciembre.\n💸 Costos: \n\nPase General: $75\nPase VIP: $90\n\nNo te pierdas la oportunidad de disfrutar de un evento único que combina el espíritu navideño con la pasión por el anime\, el doblaje y la cultura geek. ¡Ven y celebra con nosotros! 🎄🎮✨ \n\nEvento: Expo Camelot – 35ª Convención de Anime y Entretenimiento (Edición Navideña).\nFecha: 7 de diciembre de 2024.\nLugar:\nHora: Desde la mañana\, hasta el cierre del día.\nDetalles:\n\nActores de doblaje invitados: Pepe Toño Macías y Humberto Solórzano.\nInvitados cosplay: Lalumi Team WCS 2024.
URL:https://alertachiapas.com/evento/%f0%9f%8e%84-llega-expo-camelot-navidad-una-convencion-epica-en-chiapas-%f0%9f%8e%85/
LOCATION:Expo Convenciones Chiapas\, Boulevard de los Castillos\, Residencial Montes Azules\, tuxtla gutiérrez\, Chiapas\, 29000\, Mexico
CATEGORIES:Evento general
ATTACH;FMTTYPE=image/jpeg:https://alertachiapas.com/wp-content/uploads/2024/12/468283794_1115732739944185_3732706817769726417_n.jpg
END:VEVENT
BEGIN:VEVENT
DTSTART;TZID=America/Mexico_City:20241205T170000
DTEND;TZID=America/Mexico_City:20241205T190000
DTSTAMP:20260422T174907
CREATED:20241204T215452Z
LAST-MODIFIED:20241204T215452Z
UID:10000128-1733418000-1733425200@alertachiapas.com
SUMMARY:🎨🎭 Clausura de Talleres del Centro Cultural Santo Domingo 🎶✨
DESCRIPTION:El Centro Cultural Exconvento Santo Domingo y la Casa Escuela de Tradiciones te invitan a la gran Clausura de Talleres\, un evento lleno de talento\, creatividad y expresión artística. Este jueves 5 de diciembre de 2024\, a partir de las 17:00 horas\, disfruta de las presentaciones y exhibiciones de los talleres que han trabajado durante el año. \nSerá una tarde inolvidable donde el arte\, la danza\, la música y la pintura se unen para mostrar el resultado del esfuerzo de los participantes y maestros. ¡No te lo pierdas y sé parte de esta celebración cultural! 🌟 \nEste evento es organizado por el Gobierno del Estado de Chiapas y Coneculta\, y busca resaltar el talento local mientras fomenta el interés por las tradiciones y expresiones artísticas. 🎨💃 \nConcentrado del evento:\n📍 Lugar: Centro Cultural Exconvento Santo Domingo\n📆 Fecha: Jueves\, 5 de diciembre de 2024\n⏰ Hora: 17:00 horas\n✨ Detalles: Clausura de talleres de arte\, música\, danza y tradiciones culturales. \n¡Asiste y celebra el arte en Chiapas! 🖌️🎭
URL:https://alertachiapas.com/evento/%f0%9f%8e%a8%f0%9f%8e%ad-clausura-de-talleres-del-centro-cultural-santo-domingo-%f0%9f%8e%b6%e2%9c%a8/
LOCATION:Centro Cultural Exconvento Santo Domingo\, Centro histórico de Chiapa de Corzo\, Chiapa de Corzo
CATEGORIES:Evento general
ATTACH;FMTTYPE=image/jpeg:https://alertachiapas.com/wp-content/uploads/2024/12/469405288_918644157119434_4665083238694810118_n.jpg
END:VEVENT
BEGIN:VEVENT
DTSTART;TZID=America/Mexico_City:20241205T170000
DTEND;TZID=America/Mexico_City:20241205T193000
DTSTAMP:20260422T174907
CREATED:20241111T220821Z
LAST-MODIFIED:20241116T055335Z
UID:10000035-1733418000-1733427000@alertachiapas.com
SUMMARY:El Payafest 2024
DESCRIPTION:La inscripción temprana\, del 5 al 20 de noviembre\, tiene un costo de $400. Si te inscribes del 21 de noviembre al 5 de diciembre\, el costo será de $450. No pierdas la oportunidad de inscribirte a tiempo y obtener \nPara más información y registro \n\nCascabelito Di Caprio : 961 107 5333
URL:https://alertachiapas.com/evento/el-payafest-2024/
LOCATION:Berriozabal
CATEGORIES:Evento general
ATTACH;FMTTYPE=image/jpeg:https://alertachiapas.com/wp-content/uploads/2024/11/18304d19-d2d5-4dd2-aeb7-ce90393b8e5f.jpg
END:VEVENT
END:VCALENDAR