BEGIN:VCALENDAR
VERSION:2.0
PRODID:-//Alerta Chiapas - ECPv6.15.20//NONSGML v1.0//EN
CALSCALE:GREGORIAN
METHOD:PUBLISH
X-WR-CALNAME:Alerta Chiapas
X-ORIGINAL-URL:https://alertachiapas.com
X-WR-CALDESC:Eventos para Alerta Chiapas
REFRESH-INTERVAL;VALUE=DURATION:PT1H
X-Robots-Tag:noindex
X-PUBLISHED-TTL:PT1H
BEGIN:VTIMEZONE
TZID:America/Mexico_City
BEGIN:STANDARD
TZOFFSETFROM:-0600
TZOFFSETTO:-0600
TZNAME:CST
DTSTART:20230101T000000
END:STANDARD
END:VTIMEZONE
BEGIN:VEVENT
DTSTART;TZID=America/Mexico_City:20241203T090000
DTEND;TZID=America/Mexico_City:20241203T150000
DTSTAMP:20260422T184536
CREATED:20241203T010041Z
LAST-MODIFIED:20241203T010125Z
UID:10000121-1733216400-1733238000@alertachiapas.com
SUMMARY:🎄 Festival Navideño "Colores y Sabores de Chiapas" 🎁✨
DESCRIPTION:¡La magia de la Navidad llega a Chiapas! Este 3 de diciembre\, disfruta de la 2da edición del Festival Navideño “Colores y Sabores de Chiapas”\, un evento lleno de tradición\, cultura y deliciosas ofertas gastronómicas. 🎅✨ \nEl festival se llevará a cabo en el Hemiciclo a Benito Juárez\, dentro del Congreso del Estado de Chiapas\, de 9:00 AM a 3:00 PM. Aquí podrás encontrar: \n\n🥮 Venta de hojuelas\, tamales y rompope\n🥘 Comida tradicional zoque\n🎁 Productos regionales ideales para canastas navideñas\n\nEste espacio celebra la riqueza cultural de Chiapas y es una gran oportunidad para disfrutar en familia o preparar los regalos y platillos para las fiestas decembrinas. ¡No te lo pierdas! 🌟 \n📍 Lugar: Hemiciclo a Benito Juárez\, Interior del Congreso del Estado de Chiapas\n📅 Fecha: 3 de diciembre\n⏰ Hora: De 9:00 AM a 3:00 PM\n🎄 Actividades: \n\nVenta de productos tradicionales\nComida típica chiapaneca\nProductos ideales para la Navidad\n\n¡Celebremos juntos la esencia de Chiapas esta Navidad! 🎁🍃
URL:https://alertachiapas.com/evento/%f0%9f%8e%84-festival-navideno-colores-y-sabores-de-chiapas-%f0%9f%8e%81%e2%9c%a8/
LOCATION:Congreso del Estado de Chiapas\, Av. 1A. Oriente Sur s/n\, tuxtla gutiérrez\, Chiapas\, Mexico
CATEGORIES:Evento general
ATTACH;FMTTYPE=image/jpeg:https://alertachiapas.com/wp-content/uploads/2024/12/468584865_18379318702103972_8225273161236659049_n.jpg
END:VEVENT
BEGIN:VEVENT
DTSTART;TZID=America/Mexico_City:20241203T160000
DTEND;TZID=America/Mexico_City:20241203T200000
DTSTAMP:20260422T184536
CREATED:20241202T221037Z
LAST-MODIFIED:20241203T003828Z
UID:10000119-1733241600-1733256000@alertachiapas.com
SUMMARY:✨ Día Internacional de las Personas con Discapacidad en Tuxtla 🌟
DESCRIPTION:Este 3 de diciembre\, la ciudad de Tuxtla Gutiérrez celebrará el Día Internacional de las Personas con Discapacidad con un evento inclusivo lleno de actividades para toda la familia. 🦽🎨⚽ \nEn la Cancha de Básquetbol de Caña Hueca\, de 4:00 PM a 8:00 PM\, podrás disfrutar de un Mercadito Inclusivo\, espectáculos de Deporte Adaptado\, una inspiradora Exposición Artística y el Día del Empleo para Personas con Discapacidad\, una oportunidad única para la inclusión laboral. \nEste evento es organizado por el DIF Tuxtla en colaboración con diferentes instituciones\, reafirmando el compromiso con la inclusión y el respeto a los derechos de todas las personas. ¡Ven con tu familia y sé parte de esta gran celebración! 💪👨‍👩‍👧‍👦 \n📍 Lugar: Caña Hueca\, Cancha de Básquetbol\n📅 Fecha: 3 de diciembre\n⏰ Hora: De 4:00 PM a 8:00 PM\n🎉 Actividades: \n\nMercadito Inclusivo\nDeporte Adaptado\nExposición Artística\nDía del Empleo para Personas con Discapacidad\n\n¡Tu participación hace la diferencia! 🌟❤️
URL:https://alertachiapas.com/evento/%e2%9c%a8-dia-internacional-de-las-personas-con-discapacidad-en-tuxtla-%f0%9f%8c%9f/
LOCATION:Parque Recreativo Caña Hueca\, Blvd. Belisario Domínguez SN\, tuxtla gutiérrez\, chiapas\, Mexico
CATEGORIES:Evento general
ATTACH;FMTTYPE=image/jpeg:https://alertachiapas.com/wp-content/uploads/2024/12/IMG_6631.jpg
END:VEVENT
END:VCALENDAR