BEGIN:VCALENDAR
VERSION:2.0
PRODID:-//Alerta Chiapas - ECPv6.15.20//NONSGML v1.0//EN
CALSCALE:GREGORIAN
METHOD:PUBLISH
X-ORIGINAL-URL:https://alertachiapas.com
X-WR-CALDESC:Eventos para Alerta Chiapas
REFRESH-INTERVAL;VALUE=DURATION:PT1H
X-Robots-Tag:noindex
X-PUBLISHED-TTL:PT1H
BEGIN:VTIMEZONE
TZID:America/Mexico_City
BEGIN:STANDARD
TZOFFSETFROM:-0600
TZOFFSETTO:-0600
TZNAME:CST
DTSTART:20230101T000000
END:STANDARD
END:VTIMEZONE
BEGIN:VEVENT
DTSTART;VALUE=DATE:20241201
DTEND;VALUE=DATE:20241202
DTSTAMP:20260424T074803
CREATED:20241129T203554Z
LAST-MODIFIED:20241129T203554Z
UID:10000117-1733011200-1733097599@alertachiapas.com
SUMMARY:¡Arrancones y adrenalina en la 3ª Copa Sureste! 🏎️🔥
DESCRIPTION:El rugir de los motores y la velocidad se apoderan de Tuxtla Gutiérrez con la esperada 3ª Copa Sureste. Este evento reunirá a los mejores autos en un espectáculo único de arrancones 1/8 de milla\, competencia multimarcas y premios especiales de audio. \nLa cita es el 1 de diciembre de 2024 en el Autódromo de Tuxtla Gutiérrez\, donde los fanáticos de los autos y la adrenalina podrán disfrutar de una experiencia emocionante. Además\, los 30 mejores autos multimarcas estarán compitiendo por un lugar en el podio\, demostrando poder y estilo en la pista. \nVen con tu familia y amigos a vivir una jornada llena de velocidad\, potencia y sorpresas en este gran evento que promete encender el asfalto del sureste mexicano. \n\n📍 Lugar: Autódromo Tuxtla Gutiérrez\, Chiapas.\n📅 Fecha: Domingo 1 de diciembre de 2024.\n💡 Actividades: Arrancones 1/8 de milla\, competencia multimarcas y premios especiales de audio.\n🎟️ Participación: Top 30 de autos multimarcas compitiendo en la pista.\n\n 
URL:https://alertachiapas.com/evento/arrancones-y-adrenalina-en-la-3a-copa-sureste-%f0%9f%8f%8e%ef%b8%8f%f0%9f%94%a5/
LOCATION:Autódromo de Tuxtla Gutiérrez\, Carr. Internacional Km 190\, tuxtla gutiérrez\, chiapas\, 29000\, Mexico
CATEGORIES:Evento general
ATTACH;FMTTYPE=image/jpeg:https://alertachiapas.com/wp-content/uploads/2024/11/dc4adb4d-c6b1-45ee-aced-f8ee68e2c358.jpg
END:VEVENT
BEGIN:VEVENT
DTSTART;TZID=America/Mexico_City:20241201T090000
DTEND;TZID=America/Mexico_City:20241201T113000
DTSTAMP:20260424T074803
CREATED:20241129T003623Z
LAST-MODIFIED:20241129T030906Z
UID:10000111-1733043600-1733052600@alertachiapas.com
SUMMARY:🎉 ¡Celebramos 12 años de impacto y esperanza! 🌟
DESCRIPTION:La Fundación Internacional Granito de Arena te invita a conmemorar su 12° aniversario con un evento especial lleno de significado y solidaridad. Este encuentro se llevará a cabo el domingo 1 de diciembre de 2024\, en el Salón Gluck\, ubicado en Tuxtla Gutiérrez. \nLa cita es a las 9:00 AM\, donde nos reuniremos para celebrar más de una década de trabajo comprometido en beneficio de la niñez. Será una mañana inolvidable con actividades especiales para agradecer y compartir los logros alcanzados. 🌟💙 \nEl acceso tiene un donativo anticipado de $500.00\, el cual puedes asegurar previamente. Es importante destacar que el día del evento no habrá venta de boletos\, por lo que te invitamos a adquirirlos con tiempo. 🙌✨ \n¡No te pierdas esta oportunidad de ser parte de un día tan especial y de seguir contribuyendo al cambio positivo! 🙏 \nConcentrado del evento: \n\nLugar: Salón Gluck\, Tuxtla Gutiérrez.\nFecha: Domingo 1 de diciembre de 2024.\nHora: 9:00 AM.\nDonativo: $500.00 (venta anticipada).
URL:https://alertachiapas.com/evento/%f0%9f%8e%89-celebramos-12-anos-de-impacto-y-esperanza-%f0%9f%8c%9f/
LOCATION:Gluck Espacio Para Eventos\, Ciprés 585\, Col. Mactumatza\, tuxtla gutiérrez\, chiapas\, 29000\, Mexico
CATEGORIES:Evento general
ATTACH;FMTTYPE=image/jpeg:https://alertachiapas.com/wp-content/uploads/2024/11/466557788_989061616589344_899062273390304684_n.jpg
ORGANIZER;CN="Fundaci%C3%B3n Internacional Granito de Arena":MAILTO:donaciones@fundaciongranitodearena.org
END:VEVENT
BEGIN:VEVENT
DTSTART;TZID=America/Mexico_City:20241201T100000
DTEND;TZID=America/Mexico_City:20241201T160000
DTSTAMP:20260424T074803
CREATED:20241126T225737Z
LAST-MODIFIED:20241127T011046Z
UID:10000099-1733047200-1733068800@alertachiapas.com
SUMMARY:1ª Cabalgata Citadina Montaditos 2024🐎🤠
DESCRIPTION:El próximo domingo 1 de diciembre\, únete a un evento único en Tuxtla Gutiérrez lleno de tradición\, camaradería y amor por el mundo ecuestre. La 1ª Cabalgata Citadina Montaditos 2024 promete ser una experiencia inolvidable organizada por Montaditos Galería Mexicana y coordinada por Ranchos de México. \nItinerario del evento:\n\nCita inicial: A las 10:00 a.m. en el Lienzo Unión de Charros de la Capital\, donde los asistentes disfrutarán de un desayuno de bienvenida. 🥐☕\nInicio de la cabalgata: A las 12:00 p.m.\, los jinetes partirán para recorrer la ciudad.\nLlegada: Entre 1:30 y 2:00 p.m. en Montaditos Galería Mexicana\, donde habrá una comida especial para los cabalgantes. 🍽️🎉\n\nEl evento promete ser una celebración del espíritu ranchero y una oportunidad para convivir en familia. Además\, quienes deseen participar con sus caballos pueden inscribirse y obtener más información llamando al:\n📞 961 713 8083\n📞 961 149 2029 \n📌 Detalles del evento:\n\nFecha: Domingo 1 de diciembre\nHora:\n\nCita: 10:00 a.m.\nSalida: 12:00 p.m.\nLlegada: 1:30-2:00 p.m.\n\n\nLugar:\n\nPunto de partida: Lienzo Unión de Charros de la Capital\nDestino: Montaditos Galería Mexicana\n\n\nActividades: Desayuno de bienvenida\, cabalgata\, y comida especial.\n\n¡No te pierdas esta oportunidad de disfrutar de la tradición ecuestre en todo su esplendor! 🐴✨
URL:https://alertachiapas.com/evento/1a-cabalgata-citadina-montaditos-2024%f0%9f%90%8e%f0%9f%a4%a0/
LOCATION:Lienzo Union de Charros\, Plan de Ayala\, tuxtla gutiérrez\, chiapas\, 29000\, Mexico
CATEGORIES:Evento general
ATTACH;FMTTYPE=image/jpeg:https://alertachiapas.com/wp-content/uploads/2024/11/43a35b40-67a7-4c12-827a-2aa40930dac0.jpg
END:VEVENT
BEGIN:VEVENT
DTSTART;TZID=America/Mexico_City:20241201T110000
DTEND;TZID=America/Mexico_City:20241201T200000
DTSTAMP:20260424T074803
CREATED:20241127T235916Z
LAST-MODIFIED:20241127T235916Z
UID:10000103-1733050800-1733083200@alertachiapas.com
SUMMARY:🎀 ¡Pink Carpet: Vive la magia de emprender en Tuxtla! 🌸✨
DESCRIPTION:Este 1 de diciembre\, no te pierdas la Expo Empresarial Pink Carpet\, un evento lleno de estilo\, emprendimiento y diversión para toda la familia. Organizado por Casa Pink Entrepreneur Gallery\, esta edición promete ser una experiencia inolvidable en un ambiente encantador\, al estilo Pink Enchanted. \nCon más de 100 marcas emprendedoras\, el evento contará con:\n🎶 Música en vivo\n🎁 Regalos y sorpresas\n🍴 Food & Drinks para deleitar tu paladar\n💎 Una exclusiva Piercing Party by Orella\n🚗 Valet Parking para mayor comodidad \nYa sea que busques apoyar el talento local\, disfrutar de un día diferente o adquirir productos únicos\, este es el lugar ideal. La entrada es completamente libre\, así que invita a tu familia y amigos para disfrutar de un ambiente creativo\, lleno de magia y encanto. 🌟 \nDetalles del evento:\n📍 Lugar: Mozé Eventos\n📅 Fecha: 1 de diciembre\n⏰ Hora: De 11:00 a 20:00 horas\n🎟️ Entrada: Libre\n🎡 Actividades: Más de 100 marcas\, música\, regalos\, food & drinks\, y más \n¡No te lo pierdas y ven por tus compras locales! 🌷✨
URL:https://alertachiapas.com/evento/%f0%9f%8e%80-pink-carpet-vive-la-magia-de-emprender-en-tuxtla-%f0%9f%8c%b8%e2%9c%a8/
LOCATION:Mozé Eventos\, Carretera Panamericana y Calzada Campestre No. 5191\, chiapas\, 29000\, Mexico
CATEGORIES:Evento general
ATTACH;FMTTYPE=image/jpeg:https://alertachiapas.com/wp-content/uploads/2024/11/466381562_18028591622586090_6739053404393465629_n.jpg
END:VEVENT
BEGIN:VEVENT
DTSTART;TZID=America/Mexico_City:20241201T130000
DTEND;TZID=America/Mexico_City:20241201T140000
DTSTAMP:20260424T074803
CREATED:20241126T003238Z
LAST-MODIFIED:20241126T010744Z
UID:10000092-1733058000-1733061600@alertachiapas.com
SUMMARY:¡Encendiendo la Magia de la Navidad en Tuxtla! 🎄✨
DESCRIPTION:Este 1 de diciembre\, la magia de la Navidad iluminará Tuxtla Gutiérrez con el evento “Encendiendo la Magia”. Prepárate para vivir una tarde llena de emociones\, tradición y espíritu navideño en el Museo de la Niñez\, un lugar diseñado para disfrutar en familia. \nCon entrada totalmente gratuita\, este evento arrancará a las 13:00 horas\, prometiendo sorpresas\, decoración espectacular y actividades que harán brillar los corazones de chicos y grandes. \n📌 Lugar: Museo de la Niñez\, ubicado en Blvd. Salomón González Blanco esquina con Paso Limón\, Ampliación Las Palmas\, Tuxtla Gutiérrez\, Chiapas.\n📅 Fecha: 1 de diciembre de 2024.\n⏰ Hora: 13:00 horas. \nOrganizado por el Gobierno del Estado y el Sistema DIF\, este evento es la excusa perfecta para reunir a la familia y dar la bienvenida a las fiestas decembrinas con alegría y unión. \nNo te pierdas esta oportunidad de encender la magia de la Navidad. ¡Asiste y comparte el espíritu navideño! 🎅🎁
URL:https://alertachiapas.com/evento/encendiendo-la-magia-de-la-navidad-en-tuxtla-%f0%9f%8e%84%e2%9c%a8/
LOCATION:Museo de la Niñez\, Blvd. Salomón González Blanco esquina con Paso Limón\, tuxtla gutiérrez\, chiapas\, 29000\, Mexico
CATEGORIES:Evento general
ATTACH;FMTTYPE=image/jpeg:https://alertachiapas.com/wp-content/uploads/2024/11/IMG_6350.jpg
END:VEVENT
BEGIN:VEVENT
DTSTART;TZID=America/Mexico_City:20241201T160000
DTEND;TZID=America/Mexico_City:20241201T180000
DTSTAMP:20260424T074803
CREATED:20241129T002827Z
LAST-MODIFIED:20241129T030217Z
UID:10000107-1733068800-1733076000@alertachiapas.com
SUMMARY:Recorrido de Parachicos en honor a la Virgen de Guadalupe
DESCRIPTION:Este domingo 1 de diciembre de 2024\, la comunidad guadalupana se prepara para un emotivo recorrido en honor a la Virgen de Guadalupe. El grupo Parachico Guadalupano invita a todos a unirse en este evento especial lleno de fe y devoción. \nEl punto de reunión será en el estacionamiento Juquilita\, ubicado en 2 Sur\, entre Calle Central y 1 Oriente\, a partir de las 4:00 PM. La salida está programada para las 5:00 PM\, marcando el inicio de una procesión que promete ser un homenaje lleno de espiritualidad y tradición. 🌺✨ \nNo olvides traer tu traje de parachico para vivir esta experiencia única con la comunidad. ¡Acompáñanos y se parte de este evento especial que nos conecta con nuestras raíces y fortalece nuestra fe! 🌹🙏 \nConcentrado del evento: \n\nLugar: Estacionamiento Juquilita (2 Sur entre Calle Central y 1 Oriente).\nFecha: Domingo 1 de diciembre de 2024.\nHora:\n\nPunto de reunión: 4:00 PM.\nSalida: 5:00 PM.\n\n\nDetalles: Recorrido en honor a la Virgen de Guadalupe. Llevar traje de parachico.
URL:https://alertachiapas.com/evento/recorrido-de-parachicos-en-honor-a-la-virgen-de-guadalupe/
LOCATION:Juquila\, 2 Sur entre Calle Central y 1 Oriente\, tuxtla gutiérrez\, chiapas\, 29000\, Mexico
CATEGORIES:Evento general
ATTACH;FMTTYPE=image/jpeg:https://alertachiapas.com/wp-content/uploads/2024/11/3dacc3ec-2517-47aa-9093-1281af35e6ec.jpg
END:VEVENT
BEGIN:VEVENT
DTSTART;TZID=America/Mexico_City:20241201T210000
DTEND;TZID=America/Mexico_City:20241201T230000
DTSTAMP:20260424T074803
CREATED:20241108T011818Z
LAST-MODIFIED:20241116T055515Z
UID:10000016-1733086800-1733094000@alertachiapas.com
SUMMARY:El Costeño en la Feria Chiapas 2024
DESCRIPTION:😂 Ríe Sin Parar con El Costeño 😂 \nFecha: Domingo\, 1 de diciembre\nLugar: Masivo de la Feria Chiapas\, Tuxtla Gutiérrez \nEl humor de El Costeño llega a la Feria Chiapas. Prepárate para una noche llena de risas y diversión con uno de los comediantes más queridos. ¡Te esperamos!
URL:https://alertachiapas.com/evento/el-costeno-en-la-feria-chiapas-2024/
LOCATION:Feria Chiapas\, carretera juan critin\, km 2.5\, Plan de Ayala\, Tuxtla Gutiérrez\, Chiapas\, 29020\, Mexico
CATEGORIES:Evento general
ATTACH;FMTTYPE=image/webp:https://alertachiapas.com/wp-content/uploads/2024/11/el-famoso-comediante-el-costeno-en-grave-accidente-automovilistico-son-tres-heridos.webp
END:VEVENT
END:VCALENDAR