BEGIN:VCALENDAR
VERSION:2.0
PRODID:-//Alerta Chiapas - ECPv6.15.20//NONSGML v1.0//EN
CALSCALE:GREGORIAN
METHOD:PUBLISH
X-ORIGINAL-URL:https://alertachiapas.com
X-WR-CALDESC:Eventos para Alerta Chiapas
REFRESH-INTERVAL;VALUE=DURATION:PT1H
X-Robots-Tag:noindex
X-PUBLISHED-TTL:PT1H
BEGIN:VTIMEZONE
TZID:America/Mexico_City
BEGIN:STANDARD
TZOFFSETFROM:-0600
TZOFFSETTO:-0600
TZNAME:CST
DTSTART:20230101T000000
END:STANDARD
END:VTIMEZONE
BEGIN:VEVENT
DTSTART;TZID=America/Mexico_City:20241114T190000
DTEND;TZID=America/Mexico_City:20241122T223000
DTSTAMP:20260424T192415
CREATED:20241113T234800Z
LAST-MODIFIED:20241113T234826Z
UID:10000048-1731610800-1732314600@alertachiapas.com
SUMMARY:Festividades de Santa Cecilia\, Patrona de los Músicos 2024
DESCRIPTION:La Parroquia de San Roque y San Bartolomé Apóstol y la Capilla de Santa Cecilia\, Virgen y Mártir\, han organizado una serie de actividades para celebrar a Santa Cecilia\, la patrona de los músicos. Estas festividades se llevarán a cabo del 14 al 22 de noviembre de 2024 en el templete principal de actividades\, ubicado frente a la Plaza del Mariachi\, 8A Sur y 3 Oriente\, Tuxtla Gutiérrez. \nLas festividades de Santa Cecilia son una excelente oportunidad para disfrutar de música en vivo\, danzas folclóricas y actos culturales\, celebrando a quienes hacen de la música su vocación. La comunidad está invitada a unirse y disfrutar de esta tradición en honor a la patrona de los músicos.
URL:https://alertachiapas.com/evento/festividades-de-santa-cecilia-patrona-de-los-musicos-2024/
LOCATION:Plaza del Mariachi\, Tuxtla Gutiérrez\, Chiapas\, 29000\, Mexico
CATEGORIES:Evento general
ATTACH;FMTTYPE=image/png:https://alertachiapas.com/wp-content/uploads/2024/11/Beige-Minimalist-Makeup-Artist-Poster-2.png
END:VEVENT
BEGIN:VEVENT
DTSTART;TZID=America/Mexico_City:20241121T100000
DTEND;TZID=America/Mexico_City:20241121T113000
DTSTAMP:20260424T192415
CREATED:20241118T221407Z
LAST-MODIFIED:20241120T014833Z
UID:10000062-1732183200-1732188600@alertachiapas.com
SUMMARY:La Revolución en Chiapas
DESCRIPTION:Asiste a la Mesa redonda La Revolución en Chiapas\, con la participación del Dr. Valente Molina\, Mtra. Sofía Mireles Gavito y la Dra. Olga Tatiana Jiménez Domínguez. \n🗓️ 21 de noviembre. \n🕙 10 de la mañana. \n📍 Casa de la Cultura Luis Alaminos Guerrero.
URL:https://alertachiapas.com/evento/la-revolucion-en-chiapas/
LOCATION:Casa de la Cultura Luis Alaminos\, 1a poniente esquina con 2a norte\, Tuxtla Gutiérrez\, Chiapas\, 29000\, Mexico
CATEGORIES:Evento general
ATTACH;FMTTYPE=image/jpeg:https://alertachiapas.com/wp-content/uploads/2024/11/467511485_957396493086906_4566029943506051961_n.jpg
END:VEVENT
END:VCALENDAR