BEGIN:VCALENDAR
VERSION:2.0
PRODID:-//Alerta Chiapas - ECPv6.15.20//NONSGML v1.0//EN
CALSCALE:GREGORIAN
METHOD:PUBLISH
X-ORIGINAL-URL:https://alertachiapas.com
X-WR-CALDESC:Eventos para Alerta Chiapas
REFRESH-INTERVAL;VALUE=DURATION:PT1H
X-Robots-Tag:noindex
X-PUBLISHED-TTL:PT1H
BEGIN:VTIMEZONE
TZID:America/Mexico_City
BEGIN:STANDARD
TZOFFSETFROM:-0600
TZOFFSETTO:-0600
TZNAME:CST
DTSTART:20230101T000000
END:STANDARD
END:VTIMEZONE
BEGIN:VEVENT
DTSTART;TZID=America/Mexico_City:20241114T190000
DTEND;TZID=America/Mexico_City:20241122T223000
DTSTAMP:20260424T213620
CREATED:20241113T234800Z
LAST-MODIFIED:20241113T234826Z
UID:10000048-1731610800-1732314600@alertachiapas.com
SUMMARY:Festividades de Santa Cecilia\, Patrona de los Músicos 2024
DESCRIPTION:La Parroquia de San Roque y San Bartolomé Apóstol y la Capilla de Santa Cecilia\, Virgen y Mártir\, han organizado una serie de actividades para celebrar a Santa Cecilia\, la patrona de los músicos. Estas festividades se llevarán a cabo del 14 al 22 de noviembre de 2024 en el templete principal de actividades\, ubicado frente a la Plaza del Mariachi\, 8A Sur y 3 Oriente\, Tuxtla Gutiérrez. \nLas festividades de Santa Cecilia son una excelente oportunidad para disfrutar de música en vivo\, danzas folclóricas y actos culturales\, celebrando a quienes hacen de la música su vocación. La comunidad está invitada a unirse y disfrutar de esta tradición en honor a la patrona de los músicos.
URL:https://alertachiapas.com/evento/festividades-de-santa-cecilia-patrona-de-los-musicos-2024/
LOCATION:Plaza del Mariachi\, Tuxtla Gutiérrez\, Chiapas\, 29000\, Mexico
CATEGORIES:Evento general
ATTACH;FMTTYPE=image/png:https://alertachiapas.com/wp-content/uploads/2024/11/Beige-Minimalist-Makeup-Artist-Poster-2.png
END:VEVENT
BEGIN:VEVENT
DTSTART;TZID=America/Mexico_City:20241119T080000
DTEND;TZID=America/Mexico_City:20241119T170000
DTSTAMP:20260424T213620
CREATED:20241120T002115Z
LAST-MODIFIED:20241120T014942Z
UID:10000066-1732003200-1732035600@alertachiapas.com
SUMMARY:🎉 ¡Llega el Mercado Joven "Emprende Joven" a Caña Hueca! 🛍️✨
DESCRIPTION:El talento joven de Chiapas se reúne este domingo 24 de noviembre de 2024 en el Mercado Joven “Emprende Joven”\, un evento único que impulsa a jóvenes emprendedores de la región. \nDisfruta de una amplia variedad de productos elaborados con creatividad y pasión por emprendedores locales. Desde artesanías hasta alimentos tradicionales\, este mercado promete ser una experiencia llena de cultura\, innovación y oportunidades para apoyar el comercio joven. \nLa cita es en el Parque Recreativo Caña Hueca\, en el Domo de las canchas de básquetbol\, con horario de 9:00 AM a 4:00 PM. No pierdas la oportunidad de conocer\, comprar y apoyar los productos chiapanecos que reflejan el espíritu y la creatividad de nuestra juventud. \n¡Ven con tu familia y amigos para disfrutar de un domingo diferente lleno de colores\, tradición y emprendimiento! 🎨🎶 \nDetalles del evento:\n\n📍 Lugar: Parque Recreativo Caña Hueca\, Domo de las canchas de básquetbol.\n📅 Fecha: Domingo\, 24 de noviembre de 2024.\n⏰ Hora: 9:00 AM a 4:00 PM.\n🎯 Actividad: Mercado Joven “Emprende Joven”.\n\n¡Te esperamos! Apoyemos juntos el talento joven de Chiapas. ✨
URL:https://alertachiapas.com/evento/%f0%9f%8e%89-llega-el-mercado-joven-emprende-joven-a-cana-hueca-%f0%9f%9b%8d%ef%b8%8f%e2%9c%a8/
LOCATION:Parque Recreativo Caña Hueca\, Blvd. Belisario Domínguez SN\, tuxtla gutiérrez\, chiapas\, Mexico
CATEGORIES:Evento general
END:VEVENT
BEGIN:VEVENT
DTSTART;TZID=America/Mexico_City:20241119T200000
DTEND;TZID=America/Mexico_City:20241119T230000
DTSTAMP:20260424T213620
CREATED:20241112T222412Z
LAST-MODIFIED:20241116T173036Z
UID:10000040-1732046400-1732057200@alertachiapas.com
SUMMARY:26º Aniversario de la Asociación de Autores y Compositores de Chiapas A.C.
DESCRIPTION:La Asociación de Autores y Compositores de Chiapas A.C. celebrará su 26º aniversario con una elegante cena-show el próximo 19 de noviembre a las 20:00 hrs en la sede del Hotel Eco City\, en Tuxtla Gutiérrez\, Chiapas. Este evento promete una noche de entretenimiento y celebración en honor a la creatividad musical chiapaneca. \nPara más información y reservaciones\, pueden comunicarse al número 961 114 25 50 o escribir al correo electrónico mesadirectiva2326@gmail.com. También pueden seguir la página de Facebook “Autores y Compositores de Chiapas” para conocer más detalles. ¡Únete a esta noche especial y celebra junto a los artistas locales!
URL:https://alertachiapas.com/evento/26o-aniversario-de-la-asociacion-de-autores-y-compositores-de-chiapas-a-c/
LOCATION:Hotel Eco City\, Tuxtla Gutiérrez\, Chiapas\, 29000\, Mexico
CATEGORIES:Evento general
ATTACH;FMTTYPE=image/jpeg:https://alertachiapas.com/wp-content/uploads/2024/11/465887391_1351755116231074_8582728605552251935_n.jpg
ORGANIZER;CN="Asociaci%C3%B3n de Autores y Compositores de Chiapas A.C.":MAILTO:mesadirectiva2326@gmail.com
END:VEVENT
END:VCALENDAR