BEGIN:VCALENDAR
VERSION:2.0
PRODID:-//Alerta Chiapas - ECPv6.15.20//NONSGML v1.0//EN
CALSCALE:GREGORIAN
METHOD:PUBLISH
X-WR-CALNAME:Alerta Chiapas
X-ORIGINAL-URL:https://alertachiapas.com
X-WR-CALDESC:Eventos para Alerta Chiapas
REFRESH-INTERVAL;VALUE=DURATION:PT1H
X-Robots-Tag:noindex
X-PUBLISHED-TTL:PT1H
BEGIN:VTIMEZONE
TZID:America/Mexico_City
BEGIN:STANDARD
TZOFFSETFROM:-0600
TZOFFSETTO:-0600
TZNAME:CST
DTSTART:20240101T000000
END:STANDARD
END:VTIMEZONE
BEGIN:VEVENT
DTSTART;TZID=America/Mexico_City:20250720T070000
DTEND;TZID=America/Mexico_City:20250720T090000
DTSTAMP:20260421T085100
CREATED:20250711T020603Z
LAST-MODIFIED:20250711T020603Z
UID:10000753-1752994800-1753002000@alertachiapas.com
SUMMARY:¡Corre por una Causa! Participa en la Carrera "Dejando Huella" a Beneficio de "La Casa de las Perritas"
DESCRIPTION:Dejando Huella”\, un evento con causa diseñado para amantes de los perros y corredores\, todo en beneficio del refugio “La Casa de las Perritas”. Esta carrera es una excelente oportunidad para combinar la actividad física con la solidaridad\, apoyando a animalitos que necesitan un hogar y cuidados. \nLa Canrrera contará con dos modalidades de distancia: 3 KM y 5 KM\, para que elijas la que mejor se adapte a tu nivel y al de tu mascota. La salida y meta estarán ubicadas en VIPS Poniente\, con un retorno estratégico en Café de Chiapas para la ruta de 5 KM. \nSe premiará a los corredores en las categorías Libre 5K femenil y 5K varonil con premios en efectivo: $1\,500 para el primer lugar\, $1\,000 para el segundo y $500 para el tercer lugar. Para los caninos\, habrá una categoría Libre 3K caninos con premios por patrocinadores y premios absolutos por ramas. \nEl donativo para participar es de $200\, y todo lo recaudado será destinado directamente a “La Casa de las Perritas” para apoyar su invaluable labor. ¡No te pierdas esta oportunidad de dejar una huella positiva en la vida de muchos perritos! \nPara más información\, puedes contactar a los números: 961 255 33 67 y 961 318 0860. \n\nConcentrado del Evento: \n\nEvento: Canrrera “Dejando Huella”\nBeneficiario: Refugio “La Casa de las Perritas”\nFecha: Domingo 20 de julio de 2025\nHora: 7:00 AM\nSalida y Meta: VIPS Poniente\, Tuxtla Gutiérrez.\nDistancias: 3 KM y 5 KM (Retorno en Café de Chiapas para 5 KM).\nDonativo: $200.00 por persona.\nPremios para Personas: Libre 5K femenil y 5K varonil ($1\,500\, $1\,000\, $500).\nPremios para Caninos: Libre 3K caninos (Premios por patrocinadores y premios absolutos por ramas).\nInformación y Contacto: 961 255 33 67 / 961 318 0860.
URL:https://alertachiapas.com/evento/corre-por-una-causa-participa-en-la-carrera-dejando-huella-a-beneficio-de-la-casa-de-las-perritas/2025-07-20/1/
LOCATION:Vips Poniente
CATEGORIES:Deportes
ATTACH;FMTTYPE=image/jpeg:https://alertachiapas.com/wp-content/uploads/2025/07/IMG_1578.jpg
END:VEVENT
BEGIN:VEVENT
DTSTART;TZID=America/Mexico_City:20250720T080000
DTEND;TZID=America/Mexico_City:20250720T170000
DTSTAMP:20260421T085100
CREATED:20250711T020603Z
LAST-MODIFIED:20250711T020603Z
UID:10000754-1752998400-1753030800@alertachiapas.com
SUMMARY:¡Corre por una Causa! Participa en la Carrera "Dejando Huella" a Beneficio de "La Casa de las Perritas"
DESCRIPTION:Dejando Huella”\, un evento con causa diseñado para amantes de los perros y corredores\, todo en beneficio del refugio “La Casa de las Perritas”. Esta carrera es una excelente oportunidad para combinar la actividad física con la solidaridad\, apoyando a animalitos que necesitan un hogar y cuidados. \nLa Canrrera contará con dos modalidades de distancia: 3 KM y 5 KM\, para que elijas la que mejor se adapte a tu nivel y al de tu mascota. La salida y meta estarán ubicadas en VIPS Poniente\, con un retorno estratégico en Café de Chiapas para la ruta de 5 KM. \nSe premiará a los corredores en las categorías Libre 5K femenil y 5K varonil con premios en efectivo: $1\,500 para el primer lugar\, $1\,000 para el segundo y $500 para el tercer lugar. Para los caninos\, habrá una categoría Libre 3K caninos con premios por patrocinadores y premios absolutos por ramas. \nEl donativo para participar es de $200\, y todo lo recaudado será destinado directamente a “La Casa de las Perritas” para apoyar su invaluable labor. ¡No te pierdas esta oportunidad de dejar una huella positiva en la vida de muchos perritos! \nPara más información\, puedes contactar a los números: 961 255 33 67 y 961 318 0860. \n\nConcentrado del Evento: \n\nEvento: Canrrera “Dejando Huella”\nBeneficiario: Refugio “La Casa de las Perritas”\nFecha: Domingo 20 de julio de 2025\nHora: 7:00 AM\nSalida y Meta: VIPS Poniente\, Tuxtla Gutiérrez.\nDistancias: 3 KM y 5 KM (Retorno en Café de Chiapas para 5 KM).\nDonativo: $200.00 por persona.\nPremios para Personas: Libre 5K femenil y 5K varonil ($1\,500\, $1\,000\, $500).\nPremios para Caninos: Libre 3K caninos (Premios por patrocinadores y premios absolutos por ramas).\nInformación y Contacto: 961 255 33 67 / 961 318 0860.
URL:https://alertachiapas.com/evento/corre-por-una-causa-participa-en-la-carrera-dejando-huella-a-beneficio-de-la-casa-de-las-perritas/2025-07-20/2/
LOCATION:Vips Poniente
CATEGORIES:Deportes
ATTACH;FMTTYPE=image/jpeg:https://alertachiapas.com/wp-content/uploads/2025/07/IMG_1578.jpg
END:VEVENT
BEGIN:VEVENT
DTSTART;TZID=America/Mexico_City:20250720T120000
DTEND;TZID=America/Mexico_City:20250720T150000
DTSTAMP:20260421T085100
CREATED:20250715T231949Z
LAST-MODIFIED:20250715T231949Z
UID:10000769-1753012800-1753023600@alertachiapas.com
SUMMARY:¡Adrenalina y Solidaridad! Campeonato Estatal de Velocidad en Tierra Beneficiará a Niños con Discapacidades
DESCRIPTION:Tuxtla Gutiérrez será testigo de la emocionante 4ª etapa del Campeonato Estatal de Velocidad en Tierra\, un evento deportivo que no solo promete pura adrenalina\, sino que también tiene un noble propósito: todo lo recaudado será a beneficio de niños con diferentes discapacidades. \nOrganizado por AMECH A.C. y con el respaldo de REDEPROS A.C. y otros colaboradores\, este campeonato reunirá a los mejores pilotos de la región en la desafiante Pista Mincho Marín. Los asistentes podrán disfrutar de la velocidad y destreza de los competidores\, en un ambiente familiar y de apoyo. \nAdemás de la acción en pista\, el evento ofrecerá venta de alimentos y bebidas para el disfrute de todos. La jornada estará amenizada por la participación de cantantes chiapanecos que se unen a esta noble causa\, garantizando un ambiente festivo y solidario. \n¡Ven con tu familia a pasar un domingo lleno de emoción\, mientras contribuyes a una causa que cambia vidas! \n\nConcentrado del evento: \n\nNombre del Evento: 4ª etapa Campeonato Estatal de Velocidad en Tierra\nA Beneficio de: Niños con diferentes discapacidades.\nLugar: Pista MINCHO MARIN\, Calle Jorge Gómez Rivera\, Cerro Hueco\, Tuxtla Gutiérrez\, Chiapas.\nFecha: Domingo\, 20 de julio de 2025.\nHora: 12:00 PM.\nDetalles del evento:\n\nCarreras de velocidad en tierra.\nVenta de Alimentos y Bebidas.\nPresentaciones de cantantes chiapanecos.\nAmbiente familiar.\n\n\nContacto (Venta de Alimentos y Bebidas): 961 254 3005.\nOrganizan/Apoyan: AMECH A.C.\, REDEPROS A.C.\, FIM (Federación Internacional de Motociclismo)\, Por la Paz y Certeza.
URL:https://alertachiapas.com/evento/adrenalina-y-solidaridad-campeonato-estatal-de-velocidad-en-tierra-beneficiara-a-ninos-con-discapacidades/
LOCATION:Pista MINCHO MARIN\, Calle Jorge Gómez Rivera\, Cerro Hueco\, Tuxtla Gutiérrez\, Chiapas\, 29000\, Mexico
CATEGORIES:Deportes
ATTACH;FMTTYPE=image/jpeg:https://alertachiapas.com/wp-content/uploads/2025/07/513380948_742115771669108_1177257415558670010_n.jpg
END:VEVENT
END:VCALENDAR