BEGIN:VCALENDAR
VERSION:2.0
PRODID:-//Alerta Chiapas - ECPv6.15.20//NONSGML v1.0//EN
CALSCALE:GREGORIAN
METHOD:PUBLISH
X-WR-CALNAME:Alerta Chiapas
X-ORIGINAL-URL:https://alertachiapas.com
X-WR-CALDESC:Eventos para Alerta Chiapas
REFRESH-INTERVAL;VALUE=DURATION:PT1H
X-Robots-Tag:noindex
X-PUBLISHED-TTL:PT1H
BEGIN:VTIMEZONE
TZID:America/Mexico_City
BEGIN:STANDARD
TZOFFSETFROM:-0600
TZOFFSETTO:-0600
TZNAME:CST
DTSTART:20240101T000000
END:STANDARD
END:VTIMEZONE
BEGIN:VEVENT
DTSTART;TZID=America/Mexico_City:20251219T200000
DTEND;TZID=America/Mexico_City:20251219T220000
DTSTAMP:20260423T053734
CREATED:20251216T235610Z
LAST-MODIFIED:20251216T235610Z
UID:10001135-1766174400-1766181600@alertachiapas.com
SUMMARY:Teo González
DESCRIPTION: Evento: Teo González (presentación de comedia) \n\n\nLugar: Auditorio Belisario Domínguez (UNACH) \n\n\nHorario: 19 de Diciembre\, 8:00 PM (Única Función) \n\n\n El reconocido comediante mexicano Teo González\, apodado “El comediante de la cola de caballo”\, se presenta en una función exclusiva. Su espectáculo está cargado de todo tipo de humor y chistes\, abarcando temas variados como borrachos\, gallegos y situaciones de la vida cotidiana.
URL:https://alertachiapas.com/evento/teo-gonzalez/
LOCATION:Auditorio “Belisario Domínguez”\, Ángel Albino Corzo #1800\, tuxtla gutiérrez
CATEGORIES:Cultura
ATTACH;FMTTYPE=image/jpeg:https://alertachiapas.com/wp-content/uploads/2025/12/598656116_122269783742037345_7207244952170535149_n.jpg
END:VEVENT
BEGIN:VEVENT
DTSTART;TZID=America/Mexico_City:20251220T170000
DTEND;TZID=America/Mexico_City:20251220T200000
DTSTAMP:20260423T053734
CREATED:20251215T225404Z
LAST-MODIFIED:20251215T225404Z
UID:10001131-1766250000-1766260800@alertachiapas.com
SUMMARY:Festival Cultural ¡Qué viva la Navidad!
DESCRIPTION:Fecha: 20 de diciembreHora: 17:00 a 20:00 horasUbicación:Explanada del Parque Central\, Tuxtla Gutiérrez\, Chiapas \nEl Festival Cultural ¡Qué viva la Navidad! es un evento diseñado para celebrar las tradiciones decembrinas y fortalecer la convivencia familiar en un ambiente festivo. Durante la jornada\, el público podrá disfrutar de presentaciones artísticas que incluyen cantantes y coro en vivo\, academias de danza y música de Tuxtla Gutiérrez\, así como marimba en vivo. Además\, habrá venta de comidas\, postres y bebidas navideñas tradicionales\, creando una experiencia cultural y gastronómica para todas las edades.
URL:https://alertachiapas.com/evento/festival-cultural-que-viva-la-navidad/
LOCATION:Explanada del parque central de Tuxtla Gutiérrez\, Av certral y calle central\, San Marcos\, tuxtla gutiérrez\, Chiapas\, 29000\, Mexico
CATEGORIES:Cultura,Danza y Baile,Música
ATTACH;FMTTYPE=image/jpeg:https://alertachiapas.com/wp-content/uploads/2025/12/600236029_1290301559791755_4155205461365520728_n.jpg
END:VEVENT
END:VCALENDAR