BEGIN:VCALENDAR
VERSION:2.0
PRODID:-//Alerta Chiapas - ECPv6.15.20//NONSGML v1.0//EN
CALSCALE:GREGORIAN
METHOD:PUBLISH
X-WR-CALNAME:Alerta Chiapas
X-ORIGINAL-URL:https://alertachiapas.com
X-WR-CALDESC:Eventos para Alerta Chiapas
REFRESH-INTERVAL;VALUE=DURATION:PT1H
X-Robots-Tag:noindex
X-PUBLISHED-TTL:PT1H
BEGIN:VTIMEZONE
TZID:America/Mexico_City
BEGIN:STANDARD
TZOFFSETFROM:-0600
TZOFFSETTO:-0600
TZNAME:CST
DTSTART:20240101T000000
END:STANDARD
END:VTIMEZONE
BEGIN:VEVENT
DTSTART;TZID=America/Mexico_City:20250319T170000
DTEND;TZID=America/Mexico_City:20250319T190000
DTSTAMP:20260421T164642
CREATED:20250312T221727Z
LAST-MODIFIED:20250312T221727Z
UID:10000411-1742403600-1742410800@alertachiapas.com
SUMMARY:Sesión de Dibujo en Vivo con temática Griega
DESCRIPTION:Sumérgete en el arte con una experiencia única en la Sesión de Dibujo Temática Griega\, donde podrás inspirarte en la belleza clásica y plasmar tu creatividad en papel. 📜🎭 \n🖌️ Detalles del evento:📅 Fecha: 19 de marzo⏰ Hora: 5:00 PM – 7:00 PM📍 Ubicación: 4ta sur ote\, entre 15 y 16 ote sur \n🍷 Cortesía de clericot para los asistentes👥 Cupo limitado a 25 personas🍻 Venta de miches y snacks💰 Cuota de recuperación: $80 (No incluye material) \n📞 Para más información\, comunícate al: 961 580 35 63 \n¡No te pierdas esta sesión especial y deja fluir tu creatividad al estilo de la antigua Grecia! 🏺✨
URL:https://alertachiapas.com/evento/sesion-de-dibujo-en-vivo-con-tematica-griega/
LOCATION:Krater\, 4ta sur ote\, entre 15 y 16 ote sur\, tuxtla gutiérrez\, Chiapas\, Mexico
CATEGORIES:Arte
ATTACH;FMTTYPE=image/jpeg:https://alertachiapas.com/wp-content/uploads/2025/03/IMG_9934.jpg
END:VEVENT
BEGIN:VEVENT
DTSTART;TZID=America/Mexico_City:20250321T180000
DTEND;TZID=America/Mexico_City:20250321T200000
DTSTAMP:20260421T164642
CREATED:20250321T015903Z
LAST-MODIFIED:20250321T015903Z
UID:10000430-1742580000-1742587200@alertachiapas.com
SUMMARY:"Recital de Primavera" en San Cristóbal de las Casas
DESCRIPTION:El Centro Cultural El Carmen invita al Recital de Primavera\, un evento musical que se llevará a cabo el próximo viernes 21 de marzo de 2025 a las 18:00 horas en San Cristóbal de las Casas\, Chiapas. \nBajo la dirección del Mtro. Jesús Medina\, este recital contará con la participación de estudiantes de guitarra\, cuartetos\, duetos\, solistas y canto coral\, quienes interpretarán obras de grandes compositores como Agustín Barrios\, Francisco Tárrega y Antonio Vivaldi. \nEste evento es una oportunidad perfecta para disfrutar del talento local y de una velada llena de armonía y música en vivo. 🎼🌸 \n📌 Concentrado del evento📍 Lugar: Centro Cultural El Carmen (Hermanos Domínguez s/n\, Centro\, San Cristóbal de las Casas\, Chiapas)📅 Fecha: Viernes 21 de marzo de 2025⏰ Hora: 18:00 hrs🎵 Dirección musical: Mtro. Jesús Medina🎶 Participantes: Estudiantes de guitarra\, cuarteto\, duetos\, solistas y canto coral🎼 Repertorio: Obras de Agustín Barrios\, Francisco Tárrega y Antonio Vivaldi
URL:https://alertachiapas.com/evento/recital-de-primavera-en-san-cristobal-de-las-casas/
LOCATION:Centro de Convenciones El Carmen\, Calle Miguel Hidalgo #16\, zona centro\, barrio de Santa Lucía\, San Cristóbal de Las Casas\, Chiapas\, Mexico
CATEGORIES:Arte
ATTACH;FMTTYPE=image/jpeg:https://alertachiapas.com/wp-content/uploads/2025/03/485118129_1091970959640353_3366718846378672789_n.jpg
END:VEVENT
BEGIN:VEVENT
DTSTART;TZID=America/Mexico_City:20250322T170000
DTEND;TZID=America/Mexico_City:20250322T190000
DTSTAMP:20260421T164642
CREATED:20250321T014315Z
LAST-MODIFIED:20250321T014315Z
UID:10000427-1742662800-1742670000@alertachiapas.com
SUMMARY:INAUGURACIÓN DE "TUX 3D" EN PARQUE BICENTENARIO
DESCRIPTION:Este 22 de marzo no te puedes perder la gran inauguración del Arte Efímero en Piso “Tuchtlan”\, un evento donde el arte tridimensional cobra vida en el Parque Bicentenario. \nDisfruta de impresionantes obras de Tux 3D\, un proyecto artístico que transforma el suelo en un lienzo lleno de color y perspectiva. ¡Ven y tómate tu foto en estas increíbles creaciones! 📷🎨 \n🕔 Horario: 5:00 PM📍 Lugar: Parque Bicentenario\, Tuxtla Gutiérrez🎟️ Evento gratuito \nOrganizado por el Ayuntamiento de Tuxtla Gutiérrez\, en conjunto con BMT Turismo\, Urban Lab e ITAC. \n\n📍 Lugar: Parque Bicentenario\, Tuxtla Gutiérrez📅 Fecha: Viernes 22 de marzo🕔 Horario: 5:00 PM🎭 Evento: Inauguración del arte efímero en piso “Tuchtlan”📸 ¡Tómate fotos con el arte 3D!🎟️ Entrada libre
URL:https://alertachiapas.com/evento/inauguracion-de-tux-3d-en-parque-bicentenario/
LOCATION:Parque Bicentenario\, Tuxtla Gutiérrez\, Chiapas\, 29000\, Mexico
CATEGORIES:Arte
ATTACH;FMTTYPE=image/jpeg:https://alertachiapas.com/wp-content/uploads/2025/03/IMG_0098.jpg
END:VEVENT
END:VCALENDAR