BEGIN:VCALENDAR
VERSION:2.0
PRODID:-//Alerta Chiapas - ECPv6.15.20//NONSGML v1.0//EN
CALSCALE:GREGORIAN
METHOD:PUBLISH
X-ORIGINAL-URL:https://alertachiapas.com
X-WR-CALDESC:Eventos para Alerta Chiapas
REFRESH-INTERVAL;VALUE=DURATION:PT1H
X-Robots-Tag:noindex
X-PUBLISHED-TTL:PT1H
BEGIN:VTIMEZONE
TZID:America/Mexico_City
BEGIN:STANDARD
TZOFFSETFROM:-0600
TZOFFSETTO:-0600
TZNAME:CST
DTSTART:20240101T000000
END:STANDARD
END:VTIMEZONE
BEGIN:VEVENT
DTSTART;TZID=America/Mexico_City:20250619T160000
DTEND;TZID=America/Mexico_City:20250619T190000
DTSTAMP:20260423T052618
CREATED:20250614T011156Z
LAST-MODIFIED:20250614T011156Z
UID:10000682-1750348800-1750359600@alertachiapas.com
SUMMARY:¡Demuestra tu talento en el Concurso de Dibujo de Anime en Terán!
DESCRIPTION:¡Atención\, jóvenes artistas y fans del anime en Tuxtla Gutiérrez! ✨ Prepárense para una tarde llena de creatividad y talento con la Presentación y Concurso de Dibujos de Anime. 🤩 \nEl H. Ayuntamiento de Tuxtla Gutiérrez 2024-2027\, la Casa de la Cultura Gral. Manuel de Mier y Terán\, y el Instituto Tuxtleco de Arte y Cultura (ITAC) te invitan a presenciar las increíbles obras de las alumnas y alumnos del Taller de Dibujo y Acuarela. ¡Será una exhibición que te dejará asombrado por el talento local! 🌟 \nSi te apasiona el anime y el dibujo\, esta es tu oportunidad para apoyar a la comunidad artística emergente y disfrutar de un evento vibrante. ¡No te lo pierdas! Es una excelente oportunidad para inspirarte y ver de cerca el fruto del esfuerzo y la dedicación de estos jóvenes talentos. 💖 \n\nConcentrado del Evento: \n\nNombre del evento: Presentación y Concurso de Dibujos de Anime. 🎨\nParticipantes: Alumnas y alumnos del Taller de Dibujo y Acuarela.\nLugar: Domo del Parque Central de Terán. 📍\nFecha: Jueves 19 de junio de 2025. 🗓️\nHora: 16:00 hrs (4:00 PM). 🕓\nOrganizan: H. Ayuntamiento de Tuxtla Gutiérrez 2024-2027\, Casa de la Cultura Gral. Manuel de Mier y Terán\, e Instituto Tuxtleco de Arte y Cultura (ITAC).\nDetalles del evento: Exhibición y competencia de dibujos estilo anime.
URL:https://alertachiapas.com/evento/demuestra-tu-talento-en-el-concurso-de-dibujo-de-anime-en-teran/
LOCATION:Domo de Terán\, 3a. Calle Ote. Nte\, Terán\, tuxtla gutiérrez\, Chiapas\, 29000\, Mexico
CATEGORIES:Arte,Evento general
ATTACH;FMTTYPE=image/jpeg:https://alertachiapas.com/wp-content/uploads/2025/06/505863850_1107460231413864_6256137918250084737_n.jpg
END:VEVENT
END:VCALENDAR