BEGIN:VCALENDAR
VERSION:2.0
PRODID:-//Alerta Chiapas - ECPv6.15.20//NONSGML v1.0//EN
CALSCALE:GREGORIAN
METHOD:PUBLISH
X-WR-CALNAME:Alerta Chiapas
X-ORIGINAL-URL:https://alertachiapas.com
X-WR-CALDESC:Eventos para Alerta Chiapas
REFRESH-INTERVAL;VALUE=DURATION:PT1H
X-Robots-Tag:noindex
X-PUBLISHED-TTL:PT1H
BEGIN:VTIMEZONE
TZID:America/Mexico_City
BEGIN:STANDARD
TZOFFSETFROM:-0600
TZOFFSETTO:-0600
TZNAME:CST
DTSTART:20240101T000000
END:STANDARD
END:VTIMEZONE
BEGIN:VEVENT
DTSTART;TZID=America/Mexico_City:20250607T180000
DTEND;TZID=America/Mexico_City:20250607T200000
DTSTAMP:20260420T175339
CREATED:20250606T032506Z
LAST-MODIFIED:20250606T032506Z
UID:10000652-1749319200-1749326400@alertachiapas.com
SUMMARY:¡Desarrolla tu arte en el Taller de Figura Humana en Tuxtla!
DESCRIPTION:¡Atención\, artistas y entusiastas del arte en Tuxtla Gutiérrez! 🖌️ Tienen una cita imperdible con el Taller de Figura Humana que se llevará a cabo a las puertas del Museo de la Ciudad. 🏛️ \nAprende y perfecciona tus técnicas de dibujo y representación de la figura humana de la mano de dos talentosos instructores: Fernando San Gabriel y Carlos Balbuena. 🧑‍🎨 \nSerá una excelente oportunidad para explorar tu creatividad y aprender de expertos en la materia. ¡No dejes pasar esta chance de enriquecer tu formación artística! \nEste taller es organizado por el Museo de la Ciudad de Tuxtla Gutiérrez y Atelier del Sur. \n\nConcentrado del evento: \n\nEvento: Taller de Figura Humana. 🎨\nLugar: A las puertas del Museo de la Ciudad\, Tuxtla Gutiérrez. 📍\nFecha: Sábado 7 de junio. 🗓️\nHora: 6:00 PM. ⏰\nImparte: Fernando San Gabriel y Carlos Balbuena. 🧑‍🎨\nOrganizan: Museo de la Ciudad de Tuxtla Gutiérrez y Atelier del Sur. 🖼️
URL:https://alertachiapas.com/evento/desarrolla-tu-arte-en-el-taller-de-figura-humana-en-tuxtla/
LOCATION:Museo de la Ciudad\, Av Central Pte 288\, Santo Domingo\, Tuxtla Gutiérrez\, Chiapas\, 29000\, Mexico
CATEGORIES:Arte
ATTACH;FMTTYPE=image/jpeg:https://alertachiapas.com/wp-content/uploads/2025/06/IMG_27ADDD10A606-1.jpeg
END:VEVENT
END:VCALENDAR