BEGIN:VCALENDAR
VERSION:2.0
PRODID:-//Alerta Chiapas - ECPv6.15.20//NONSGML v1.0//EN
CALSCALE:GREGORIAN
METHOD:PUBLISH
X-ORIGINAL-URL:https://alertachiapas.com
X-WR-CALDESC:Eventos para Alerta Chiapas
REFRESH-INTERVAL;VALUE=DURATION:PT1H
X-Robots-Tag:noindex
X-PUBLISHED-TTL:PT1H
BEGIN:VTIMEZONE
TZID:America/Mexico_City
BEGIN:STANDARD
TZOFFSETFROM:-0600
TZOFFSETTO:-0600
TZNAME:CST
DTSTART:20240101T000000
END:STANDARD
END:VTIMEZONE
BEGIN:VEVENT
DTSTART;TZID=America/Mexico_City:20250605T170000
DTEND;TZID=America/Mexico_City:20250605T190000
DTSTAMP:20260421T061431
CREATED:20250527T223722Z
LAST-MODIFIED:20250527T223722Z
UID:10000621-1749142800-1749150000@alertachiapas.com
SUMMARY:¡Aprende la técnica del huecograbado en un nuevo taller!
DESCRIPTION:¿Te apasiona el arte y quieres explorar nuevas técnicas? 🖌️ Inscríbete en el Taller de Huecograbado y descubre el fascinante mundo de la impresión artística. Aprenderás desde cero\, con material incluido\, y podrás desarrollar tu creatividad en un espacio único. ¡No te pierdas esta oportunidad de crear tus propias obras de arte! \n\nConcentrado del Evento: \n\nNombre del Taller: Taller de Huecograbado\nInicio: 📅 5 de Junio (de 2025\, as it’s the next closest June 5th)\nHorario: ⏰ Todos los jueves de junio\, de 5:00 a 7:00 PM\nLugar: 📍 2a Oriente Norte #947\, Tuxtla Gutiérrez\, Chiapas.\nCosto: $500 💰\nIncluye: Material 📦\nContacto para inscripciones: 📲 961 261 8268
URL:https://alertachiapas.com/evento/aprende-la-tecnica-del-huecograbado-en-un-nuevo-taller/
LOCATION:Atelier del Sur\, Interior de la 2a oriente norte 443 A\, Tuxtla Gutiérrez\, Chiapas\, Mexico
CATEGORIES:Arte,taller
ATTACH;FMTTYPE=image/jpeg:https://alertachiapas.com/wp-content/uploads/2025/05/IMG_1723.jpg
END:VEVENT
END:VCALENDAR