BEGIN:VCALENDAR
VERSION:2.0
PRODID:-//Alerta Chiapas - ECPv6.15.20//NONSGML v1.0//EN
CALSCALE:GREGORIAN
METHOD:PUBLISH
X-WR-CALNAME:Alerta Chiapas
X-ORIGINAL-URL:https://alertachiapas.com
X-WR-CALDESC:Eventos para Alerta Chiapas
REFRESH-INTERVAL;VALUE=DURATION:PT1H
X-Robots-Tag:noindex
X-PUBLISHED-TTL:PT1H
BEGIN:VTIMEZONE
TZID:America/Mexico_City
BEGIN:STANDARD
TZOFFSETFROM:-0600
TZOFFSETTO:-0600
TZNAME:CST
DTSTART:20240101T000000
END:STANDARD
END:VTIMEZONE
BEGIN:VEVENT
DTSTART;TZID=America/Mexico_City:20250423T180000
DTEND;TZID=America/Mexico_City:20250423T200000
DTSTAMP:20260421T182837
CREATED:20250416T233715Z
LAST-MODIFIED:20250416T233715Z
UID:10000498-1745431200-1745438400@alertachiapas.com
SUMMARY:¡Bailando la Identidad! llega a Tuxtla con una presentación única
DESCRIPTION:La danza se convierte en lenguaje de raíces y cultura con Vanessa Ballinas Gallegos\, beneficiaria del PECDA Chiapas Emisión 2024-2025\, quien presentará su espectáculo titulado Bailando la Identidad\, una propuesta escénica que fusiona expresión\, tradición y talento joven chiapaneco. \nEste evento contará con la participación especial de artistas invitados de la Escuela de Danza Heavy Gang\, quienes pondrán en alto el arte urbano y contemporáneo de la región. \n🆓 La entrada es completamente gratuita\, una excelente oportunidad para disfrutar de una tarde cultural en el corazón de Tuxtla Gutiérrez. ¡No te lo puedes perder! \nEste proyecto es posible gracias al apoyo del Sistema de Apoyos a la Creación y Proyectos Culturales (SACPC) y del Consejo Estatal para las Culturas y las Artes de Chiapas (CONECULTA). \n\n\n📌 Lugar: Teatro Francisco I. Madero\, 2a Norte Oriente\, Col. Centro\, Tuxtla Gutiérrez\, Chiapas \n\n\n📅 Fecha: Miércoles 23 de abril de 2025 \n\n\n🕕 Hora: 18:00 hrs \n\n\n🎟 Entrada: Gratuita \n\n\n💃 Participa: Vanessa Ballinas Gallegos + artistas invitados de la Escuela de Danza Heavy Gang \n\n\n🎭 Proyecto apoyado por: PECDA Chiapas 2024-2025
URL:https://alertachiapas.com/evento/bailando-la-identidad-llega-a-tuxtla-con-una-presentacion-unica/
LOCATION:Teatro de la Ciudad Francisco I Madero\, Teatro Francisco I. Madero\, Av. 2a. Nte. Ote.\, San Marcos\, Tuxtla Gutierrez\, Chis.\, 29000\, Mexico
CATEGORIES:Arte
ATTACH;FMTTYPE=image/jpeg:https://alertachiapas.com/wp-content/uploads/2025/04/489773269_18157652086358026_4873459674530216442_n.jpg
END:VEVENT
END:VCALENDAR