BEGIN:VCALENDAR
VERSION:2.0
PRODID:-//Alerta Chiapas - ECPv6.15.20//NONSGML v1.0//EN
CALSCALE:GREGORIAN
METHOD:PUBLISH
X-WR-CALNAME:Alerta Chiapas
X-ORIGINAL-URL:https://alertachiapas.com
X-WR-CALDESC:Eventos para Alerta Chiapas
REFRESH-INTERVAL;VALUE=DURATION:PT1H
X-Robots-Tag:noindex
X-PUBLISHED-TTL:PT1H
BEGIN:VTIMEZONE
TZID:America/Mexico_City
BEGIN:STANDARD
TZOFFSETFROM:-0600
TZOFFSETTO:-0600
TZNAME:CST
DTSTART:20240101T000000
END:STANDARD
END:VTIMEZONE
BEGIN:VEVENT
DTSTART;TZID=America/Mexico_City:20250421T170000
DTEND;TZID=America/Mexico_City:20250421T190000
DTSTAMP:20260421T195602
CREATED:20250421T203255Z
LAST-MODIFIED:20250421T203255Z
UID:10000500-1745254800-1745262000@alertachiapas.com
SUMMARY:¡Tuxtla como nunca la has visto! Llega la expo fotográfica “Tuxtla Gutiérrez como novia engalanada”
DESCRIPTION:La Casa de la Cultura “Luis Alaminos Guerrero” se llenará de historia\, color y tradición con la inauguración de la exposición fotográfica “Tuxtla Gutiérrez como novia engalanada”\, una muestra imperdible del talentoso fotógrafo Carlos Jesús Hernández Castillo 📷✨. \nEsta exposición reúne memorias fotográficas que capturan la esencia y el espíritu de la Fiesta de San Marcos\, una de las festividades más representativas de la capital chiapaneca. A través de su lente\, el artista nos invita a redescubrir los colores\, emociones y momentos que hacen única a esta celebración 💃🎭🎊. \nOrganizado por el Ayuntamiento de Tuxtla Gutiérrez 2024-2027 y el Instituto Tuxtleco de Arte y Cultura (ITAC)\, este evento promete emocionar a todos los asistentes con imágenes llenas de identidad y cultura. \n🗓 La inauguración se llevará a cabo el lunes 21 de abril a las 17:00 horas y estará disponible hasta el 5 de mayo de 2025. ¡No te lo pierdas! \n📍 Lugar: Casa de la Cultura Luis Alaminos Guerrero📌 Dirección: 1a. Poniente esquina 2a. Norte\, Tuxtla Gutiérrez\, Chiapas🗓 Fecha de inauguración: 21 de abril de 2025🕔 Hora: 17:00 hrs🖼 Exposición disponible: del 21 de abril al 5 de mayo👤 Fotógrafo: Carlos Jesús Hernández Castillo🎭 Tema: Memorias fotográficas de la Fiesta de San Marcos📚 Organiza: Instituto Tuxtleco de Arte y Cultura (ITAC)\, Ayuntamiento de Tuxtla Gutiérrez 2024-2027
URL:https://alertachiapas.com/evento/tuxtla-como-nunca-la-has-visto-llega-la-expo-fotografica-tuxtla-gutierrez-como-novia-engalanada/
LOCATION:Casa de la Cultura Luis Alaminos\, 1a poniente esquina con 2a norte\, Tuxtla Gutiérrez\, Chiapas\, 29000\, Mexico
CATEGORIES:Arte
ATTACH;FMTTYPE=image/jpeg:https://alertachiapas.com/wp-content/uploads/2025/04/489084091_1060652359427985_4995214438484267175_n.jpg
END:VEVENT
END:VCALENDAR