BEGIN:VCALENDAR
VERSION:2.0
PRODID:-//Alerta Chiapas - ECPv6.15.20//NONSGML v1.0//EN
CALSCALE:GREGORIAN
METHOD:PUBLISH
X-WR-CALNAME:Alerta Chiapas
X-ORIGINAL-URL:https://alertachiapas.com
X-WR-CALDESC:Eventos para Alerta Chiapas
REFRESH-INTERVAL;VALUE=DURATION:PT1H
X-Robots-Tag:noindex
X-PUBLISHED-TTL:PT1H
BEGIN:VTIMEZONE
TZID:America/Mexico_City
BEGIN:STANDARD
TZOFFSETFROM:-0600
TZOFFSETTO:-0600
TZNAME:CST
DTSTART:20240101T000000
END:STANDARD
END:VTIMEZONE
BEGIN:VEVENT
DTSTART;TZID=America/Mexico_City:20250319T170000
DTEND;TZID=America/Mexico_City:20250319T190000
DTSTAMP:20260421T152552
CREATED:20250312T221727Z
LAST-MODIFIED:20250312T221727Z
UID:10000411-1742403600-1742410800@alertachiapas.com
SUMMARY:Sesión de Dibujo en Vivo con temática Griega
DESCRIPTION:Sumérgete en el arte con una experiencia única en la Sesión de Dibujo Temática Griega\, donde podrás inspirarte en la belleza clásica y plasmar tu creatividad en papel. 📜🎭 \n🖌️ Detalles del evento:📅 Fecha: 19 de marzo⏰ Hora: 5:00 PM – 7:00 PM📍 Ubicación: 4ta sur ote\, entre 15 y 16 ote sur \n🍷 Cortesía de clericot para los asistentes👥 Cupo limitado a 25 personas🍻 Venta de miches y snacks💰 Cuota de recuperación: $80 (No incluye material) \n📞 Para más información\, comunícate al: 961 580 35 63 \n¡No te pierdas esta sesión especial y deja fluir tu creatividad al estilo de la antigua Grecia! 🏺✨
URL:https://alertachiapas.com/evento/sesion-de-dibujo-en-vivo-con-tematica-griega/
LOCATION:Krater\, 4ta sur ote\, entre 15 y 16 ote sur\, tuxtla gutiérrez\, Chiapas\, Mexico
CATEGORIES:Arte
ATTACH;FMTTYPE=image/jpeg:https://alertachiapas.com/wp-content/uploads/2025/03/IMG_9934.jpg
END:VEVENT
END:VCALENDAR