BEGIN:VCALENDAR
VERSION:2.0
PRODID:-//Alerta Chiapas - ECPv6.15.20//NONSGML v1.0//EN
CALSCALE:GREGORIAN
METHOD:PUBLISH
X-WR-CALNAME:Alerta Chiapas
X-ORIGINAL-URL:https://alertachiapas.com
X-WR-CALDESC:Eventos para Alerta Chiapas
REFRESH-INTERVAL;VALUE=DURATION:PT1H
X-Robots-Tag:noindex
X-PUBLISHED-TTL:PT1H
BEGIN:VTIMEZONE
TZID:America/Mexico_City
BEGIN:STANDARD
TZOFFSETFROM:-0600
TZOFFSETTO:-0600
TZNAME:CST
DTSTART:20250101T000000
END:STANDARD
END:VTIMEZONE
BEGIN:VEVENT
DTSTART;VALUE=DATE:20260227
DTEND;VALUE=DATE:20260302
DTSTAMP:20260423T014308
CREATED:20260227T193234Z
LAST-MODIFIED:20260227T193234Z
UID:10001227-1772150400-1772409599@alertachiapas.com
SUMMARY:¡El rock retumbará en San Cristóbal! Llega el Festival Kichan Rock al MUSAC
DESCRIPTION:La escena musical en el corazón de los Altos de Chiapas se prepara para vibrar con fuerza. El Consejo Estatal para las Culturas y las Artes de Chiapas (CONECULTA)\, en conjunto con el Ayuntamiento de San Cristóbal de Las Casas\, invita a la ciudadanía al Festival Kichan Rock MUSAC. \nEste evento busca posicionar el talento y la energía del género rock en uno de los recintos más emblemáticos del estado: el Museo de San Cristóbal de Las Casas (MUSAC)\, anteriormente el Palacio Municipal. La celebración se extenderá durante tres días\, convirtiéndose en el punto de encuentro ideal para los amantes de la música y la cultura en la “Capital Cultural de Chiapas”. \nLo mejor de todo es que el acceso será totalmente gratuito\, permitiendo que tanto locales como turistas disfruten de esta propuesta que forma parte de las iniciativas de “Humanismo que transforma” del Gobierno de Chiapas. \n\nConcentrado del Evento\n\n\nEvento: Festival Kichan Rock MUSAC. \n\n\nFechas: 27 y 28 de febrero\, y 1 de marzo de 2026. \n\n\nLugar: MUSAC (Museo de San Cristóbal de Las Casas / Antiguo Palacio Municipal). \n\n\nUbicación: San Cristóbal de Las Casas\, Chiapas. \n\n\nCosto: Entrada libre. \n\n\nOrganizan: CONECULTA y el H. Ayuntamiento de San Cristóbal de Las Casas.
URL:https://alertachiapas.com/evento/el-rock-retumbara-en-san-cristobal-llega-el-festival-kichan-rock-al-musac/
LOCATION:MUSAC\, Calle Diego de Mazariegos s/n\, San Cristóbal de Las Casas\, Chiapas\, Mexico
CATEGORIES:Evento general,Música
ATTACH;FMTTYPE=image/jpeg:https://alertachiapas.com/wp-content/uploads/2026/02/Unknown-4-3.jpeg
END:VEVENT
BEGIN:VEVENT
DTSTART;VALUE=DATE:20260228
DTEND;VALUE=DATE:20260307
DTSTAMP:20260423T014308
CREATED:20260129T025006Z
LAST-MODIFIED:20260129T025006Z
UID:10001164-1772236800-1772841599@alertachiapas.com
SUMMARY:¡Cartelera de Lujo! Presentan la Expo Feria Acapetahua 2026
DESCRIPTION:El municipio de Acapetahua se viste de gala para celebrar su tradicional Expo Feria Agropecuaria y Comercial 2026. Del 28 de febrero al 6 de marzo\, locales y visitantes podrán disfrutar de una semana llena de música\, cultura y actividades tradicionales en un ambiente 100% familiar.
URL:https://alertachiapas.com/evento/cartelera-de-lujo-presentan-la-expo-feria-acapetahua-2026/
LOCATION:Acapetahua\, Parque central\, Nuevo Milenio\, Acapetahua\, Chis.\, 30590\, Mexico
CATEGORIES:Expo venta,Exposición
ATTACH;FMTTYPE=image/jpeg:https://alertachiapas.com/wp-content/uploads/2026/01/623248722_122277488870223095_2815832714583143668_n-1.jpg
END:VEVENT
BEGIN:VEVENT
DTSTART;TZID=America/Mexico_City:20260228T063000
DTEND;TZID=America/Mexico_City:20260228T080000
DTSTAMP:20260423T014308
CREATED:20260228T020140Z
LAST-MODIFIED:20260228T020140Z
UID:10001233-1772260200-1772265600@alertachiapas.com
SUMMARY:¡Rodada de lujo! Marcelo Gutiérrez\, leyenda del downhill\, llega a Tuxtla para un Social Ride
DESCRIPTION:La comunidad ciclista de Chiapas se prepara para un evento sin precedentes. El próximo sábado 28 de febrero de 2026\, Tuxtla Gutiérrez recibirá a uno de los riders más influyentes y laureados a nivel mundial: Marcelo Gutiérrez. El ciclista colombiano\, reconocido por ser 9 veces campeón nacional de Downhill y doble ganador del mundial Urban Downhill\, compartirá una mañana de pedal y convivencia con los aficionados locales. \nLugar: Giant Store Tuxtla (Salida y Meta)\, Tuxtla Gutiérrez\, Chiapas. \nFecha: Sábado 28 de febrero de 2026. \nHora: 06:30 A.M.. \nDetalles del Evento: Rodada de convivencia de 25 km campestres con el multicampeón Marcelo Gutiérrez. Ruta apta para todos los niveles. Incluye hidratación\, barredora y medalla conmemorativa para los primeros 100 registros.
URL:https://alertachiapas.com/evento/rodada-de-lujo-marcelo-gutierrez-leyenda-del-downhill-llega-a-tuxtla-para-un-social-ride/
LOCATION:Giant Store Tuxtla\, Av Central Pte 1377\, Las Canoitas\, 29066 Tuxtla Gutiérrez\, Chis.\, Tuxtla Gutiérrez\, Chiapas\, 29066
CATEGORIES:Deportes
ATTACH;FMTTYPE=image/jpeg:https://alertachiapas.com/wp-content/uploads/2026/02/632082137_1322639913236226_3609389574202978929_n.jpg
END:VEVENT
BEGIN:VEVENT
DTSTART;TZID=America/Mexico_City:20260228T100000
DTEND;TZID=America/Mexico_City:20260228T130000
DTSTAMP:20260423T014308
CREATED:20260227T021458Z
LAST-MODIFIED:20260227T021458Z
UID:10001223-1772272800-1772283600@alertachiapas.com
SUMMARY:¡Admira el amarillo de Tuxtla! Únete al Recorrido Botánico de "Las Primaveras"
DESCRIPTION:Este próximo fin de semana\, la capital chiapaneca se vestirá de gala con el florecimiento de uno de sus árboles más emblemáticos. El colectivo ciudadano por la biodiversidad\, Heliomaster\, invita a la ciudadanía a participar en el Recorrido Botánico: Plantas\, Semillas\, Flores y Frutos\, una experiencia diseñada para conectar con la naturaleza urbana y conocer a fondo las famosas “Primaveras” que embellecen nuestras calles. \nEl objetivo de este recorrido es aprender sobre el ciclo de vida de estas especies\, desde su semilla hasta su fruto\, guiados por expertos que ayudarán a los asistentes a apreciar el valor ecológico de la flora local. Dado que es una actividad de bajo impacto y personalizada\, el cupo es estrictamente limitado a 10 personas\, asegurando una experiencia educativa y cercana. \nLos interesados deberán realizar su reserva a través de la plataforma TicketTailor para asegurar su lugar en esta caminata que promete una perspectiva diferente del corazón de la ciudad. \n\nDetalles del Evento\n\n\nEvento: Recorrido Botánico (Conoce las Primaveras que embellecen la ciudad). \n\n\nOrganiza: Heliomaster (Colectivo Ciudadano por la Biodiversidad). \n\n\nFecha: Sábado 28 de febrero de 2026. \n\n\nHora: 10:00 AM. \n\n\nPunto de encuentro: Parque Central (Frente a la puerta del Palacio de Gobierno). \n\n\nCosto: $145.00 MXN por persona. \n\n\nDisponibilidad: Cupo limitado a solo 10 personas. \n\n\nReservas: A través de TicketTailor.
URL:https://alertachiapas.com/evento/admira-el-amarillo-de-tuxtla-unete-al-recorrido-botanico-de-las-primaveras/
LOCATION:Centro Histórico de Tuxtla Gutiérrez\, Av. Central y Calle Central SN\, Tuxtla Gutiérrez\, Chiapas\, 29000\, Mexico
CATEGORIES:Caminata
ATTACH;FMTTYPE=image/jpeg:https://alertachiapas.com/wp-content/uploads/2026/02/639724223_18095480278984807_5609616131877892_n.jpg
END:VEVENT
BEGIN:VEVENT
DTSTART;TZID=America/Mexico_City:20260228T160000
DTEND;TZID=America/Mexico_City:20260228T180000
DTSTAMP:20260423T014308
CREATED:20260227T194007Z
LAST-MODIFIED:20260227T194007Z
UID:10001229-1772294400-1772301600@alertachiapas.com
SUMMARY:Jaime Sabines: El Polvo de Oro de la Vida llega al MUSAC
DESCRIPTION:El legado del “Mayor Sabines” vuelve a ser el centro de atención en la gélida y cultural ciudad de San Cristóbal. El Consejo Estatal para las Culturas y las Artes de Chiapas (CONECULTA) invita a la ciudadanía al conversatorio titulado “Jaime Sabines: El Polvo de Oro de la Vida”\, un espacio dedicado a explorar la profundidad y el impacto del poeta chiapaneco más universal. \nEl evento contará con la destacada participación de José Natarén\, quien guiará a los asistentes a través de una charla que promete desentrañar las capas de humanidad\, amor y cotidianidad que caracterizan la obra del autor de “Los Amorosos”. \nEste encuentro se realiza bajo el marco del programa “Humanismo que Transforma”\, impulsado por el Gobierno de Chiapas para el periodo 2024-2030\, reafirmando el compromiso con la difusión cultural y el reconocimiento de nuestras raíces literarias. La cita tendrá lugar en las emblemáticas instalaciones del MUSAC\, un recinto que se ha consolidado como el epicentro de la vida artística en la región. \n\nDetalles del Evento\n\n\nEvento: Conversatorio “Jaime Sabines: El Polvo de Oro de la Vida”. \n\n\nPonente: José Natarén. \n\n\nLugar: MUSAC (Museo de San Cristóbal de las Casas / Palacio Municipal). \n\n\nFecha: Sábado 28 de febrero. \n\n\nHora: 16:00 Horas. \n\n\nOrganiza: CONECULTA Chiapas y el Gobierno del Estado de Chiapas.
URL:https://alertachiapas.com/evento/jaime-sabines-el-polvo-de-oro-de-la-vida-llega-al-musac/
LOCATION:MUSAC\, Calle Diego de Mazariegos s/n\, San Cristóbal de Las Casas\, Chiapas\, Mexico
CATEGORIES:Arte
ATTACH;FMTTYPE=image/jpeg:https://alertachiapas.com/wp-content/uploads/2026/02/Unknown-2-5.jpeg
END:VEVENT
BEGIN:VEVENT
DTSTART;TZID=America/Mexico_City:20260228T160000
DTEND;TZID=America/Mexico_City:20260228T220000
DTSTAMP:20260423T014308
CREATED:20260227T021236Z
LAST-MODIFIED:20260227T021236Z
UID:10001222-1772294400-1772316000@alertachiapas.com
SUMMARY:Creatividad y diseño en el Mercado Mutante
DESCRIPTION:La capital chiapaneca recibirá al Mercado Mutante\, un espacio que celebra la autogestión y el talento local. Los asistentes podrán encontrar una amplia variedad de productos que incluyen arte\, diseño\, joyería\, ropa\, libros y cosmética natural. Es el lugar ideal para quienes buscan regalos únicos o apoyar el comercio local en un ambiente relajado y creativo. \n\nConcentrado de Evento\nMercado Mutante (Tuxtla Gutiérrez) \n\n\nFecha: Sábado 28 de febrero. \n\n\nHora: 4:00 PM a 10:00 PM. \n\n\nLugar: Circunvalación Tapachula Num. 583\, Colonia Moctezuma (a media cuadra de la iglesia de la Moctezuma)\, Tuxtla Gutiérrez. \n\n\nDetalles: Venta de arte\, comida\, diseño\, joyería\, ropa\, libros\, cosmética natural y regalos.
URL:https://alertachiapas.com/evento/creatividad-y-diseno-en-el-mercado-mutante/
LOCATION:Casa Colibria\, Circunvalación Tapachula #127\, Colonia Moctezuma\, Tuxtla Gutiérrez\, Chiapas\, Mexico
CATEGORIES:Expo venta
ATTACH;FMTTYPE=image/jpeg:https://alertachiapas.com/wp-content/uploads/2026/02/614288824_1441756181288283_4099782668084539399_n.jpg
END:VEVENT
BEGIN:VEVENT
DTSTART;TZID=America/Mexico_City:20260228T180000
DTEND;TZID=America/Mexico_City:20260228T190000
DTSTAMP:20260423T014308
CREATED:20260227T193654Z
LAST-MODIFIED:20260227T193654Z
UID:10001228-1772301600-1772305200@alertachiapas.com
SUMMARY:¡Mirada al cielo! San Cristóbal invita a la Gran Observación Astronómica en el MUSAC
DESCRIPTION:El Consejo Estatal para las Culturas y las Artes de Chiapas (CONECULTA)\, en coordinación con el Museo de San Cristóbal (MUSAC)\, hace una invitación abierta a las y los amantes del cosmos para participar en una velada inolvidable de Observación Astronómica. \nEste evento busca acercar la ciencia y la belleza del universo a la comunidad chiapaneca. Durante la jornada\, los asistentes podrán disfrutar de una vista privilegiada del cielo nocturno\, guiados por expertos y con el equipo necesario para identificar cuerpos celestes\, fases lunares y estrellas. \nLa actividad es ideal para familias\, estudiantes y aficionados a la fotografía nocturna que deseen aprender más sobre el espacio en uno de los edificios más emblemáticos del estado. Se recomienda asistir con ropa abrigada\, considerando el clima característico de la ciudad. \n\nDetalles del Evento\n\n\nLugar: MUSAC (Museo de San Cristóbal de Las Casas\, Antiguo Palacio Municipal). \n\n\nFecha: 28 de febrero. \n\n\nHora: 18:00 horas (6:00 PM). \n\n\nActividad: Observación del cielo nocturno con equipo astronómico. \n\n\nOrganizan: CONECULTA\, Gobierno de Chiapas y la Sociedad Astronómica de San Cristóbal de Las Casas (SAGCR México).
URL:https://alertachiapas.com/evento/mirada-al-cielo-san-cristobal-invita-a-la-gran-observacion-astronomica-en-el-musac/
LOCATION:MUSAC\, Calle Diego de Mazariegos s/n\, San Cristóbal de Las Casas\, Chiapas\, Mexico
CATEGORIES:Música
ATTACH;FMTTYPE=image/jpeg:https://alertachiapas.com/wp-content/uploads/2026/02/Unknown-5-2.jpeg
END:VEVENT
END:VCALENDAR