BEGIN:VCALENDAR
VERSION:2.0
PRODID:-//Alerta Chiapas - ECPv6.15.20//NONSGML v1.0//EN
CALSCALE:GREGORIAN
METHOD:PUBLISH
X-ORIGINAL-URL:https://alertachiapas.com
X-WR-CALDESC:Eventos para Alerta Chiapas
REFRESH-INTERVAL;VALUE=DURATION:PT1H
X-Robots-Tag:noindex
X-PUBLISHED-TTL:PT1H
BEGIN:VTIMEZONE
TZID:America/Mexico_City
BEGIN:STANDARD
TZOFFSETFROM:-0600
TZOFFSETTO:-0600
TZNAME:CST
DTSTART:20240101T000000
END:STANDARD
END:VTIMEZONE
BEGIN:VEVENT
DTSTART;VALUE=DATE:20250830
DTEND;VALUE=DATE:20250909
DTSTAMP:20260419T070044
CREATED:20250821T014202Z
LAST-MODIFIED:20250821T014202Z
UID:10000861-1756512000-1757375999@alertachiapas.com
SUMMARY:Festividades en honor a la Inmaculada Infantita en la Parroquia de San Francisco de Asís
DESCRIPTION:El Sector 6 de la Parroquia San Francisco de Asís\, invita a la comunidad en general a participar en las festividades en honor a la Inmaculada Infantita\, que se realizarán del 30 de agosto al 8 de septiembre de 2025. \nLa celebración contará con un variado programa de actividades religiosas\, que incluyen recibimientos y rezos diarios en distintos domicilios\, con el fin de que la comunidad se una en oración. Las festividades culminarán con una misa de fiesta\, procesión\, convivios y música en vivo. \nPrograma de actividades: \n\n30 de agosto: 5:00 p.m. procesión\, 6:00 p.m. recibimiento y rezo.\n31 de agosto al 6 de septiembre: 6:00 p.m. recibimiento y rezo en diferentes domicilios.\n7 de septiembre: Día del festejo con entrada de la Inmaculada Infantita\, entrada de flores y felicitaciones\, y tareas proféticas.\n8 de septiembre: Día de la fiesta\, con procesión\, entrada de flores y felicitaciones de diversas familias\, misa patronal a las 8:00 a.m.\, convivio con música en vivo a cargo de Vicente Herrera\, el Único Mayor y Melponi\, y entrada de parachicos.\n\nEl evento es una muestra de fe y tradición\, y el sector y la parroquia invitan a todos a unirse a la celebración\, siguiendo el lema: “¡Con Cristo Rey y María niña construyamos un camino Evangelizador!”. \nDetalles del evento: \n\nEvento: Festividades en honor a la Inmaculada Infantita.\nLugar: Sector 6\, Parroquia San Francisco de Asís.\nFecha: Del 30 de agosto al 8 de septiembre de 2025.\nActividades principales: Procesiones\, rezos\, recibimientos\, entrada de flores y felicitaciones\, misas\, convivios y música en vivo.\nDetalles adicionales: El programa varía cada día y se lleva a cabo en diferentes ubicaciones del sector.\nLema: “¡Con Cristo Rey y María niña construyamos un camino Evangelizador!”.
URL:https://alertachiapas.com/evento/festividades-en-honor-a-la-inmaculada-infantita-en-la-parroquia-de-san-francisco-de-asis/
LOCATION:Sector 6 San Francisco\, 10ª poniente entre 11 y 12 sur\, portón verde\, Tuxtla Gutiérrez\, Chiapas\, 29000\, Mexico
CATEGORIES:Religión
ATTACH;FMTTYPE=image/jpeg:https://alertachiapas.com/wp-content/uploads/2025/08/fe575ceb-d9a8-488e-bcac-361a4d456887.jpg
END:VEVENT
BEGIN:VEVENT
DTSTART;TZID=America/Mexico_City:20250903T100000
DTEND;TZID=America/Mexico_City:20250903T120000
DTSTAMP:20260419T070044
CREATED:20250903T011646Z
LAST-MODIFIED:20250903T011646Z
UID:10000890-1756893600-1756900800@alertachiapas.com
SUMMARY:Presentarán en San Cristóbal el libro "Diccionario del tseltal de Villa Las Rosas"
DESCRIPTION:San Cristóbal de Las Casas\, Chiapas. Como parte del fomento a la cultura y la preservación de las lenguas originarias\, se llevará a cabo la presentación del libro “Diccionario del tseltal de Villa Las Rosas”\, una obra de gran relevancia cultural escrita por Tomás Gómez López. \nEl evento contará con la participación de destacados especialistas que comentarán la obra: Gilles Polian de CIESAS-Sureste\, Juan Jesús Vázquez de CIMSUR-UNAM\, y el propio autor. La moderación estará a cargo de Fausto Bolom Ton\, también de CIMSUR-UNAM. La presentación es organizada por CONECULTA\, CELALI\, y la Universidad Nacional Autónoma de México (UNAM)\, entre otras instituciones. \nLa cita es para este 3 de septiembre\, en las instalaciones del CELALI\, un espacio dedicado a la promoción de la cultura chiapaneca. \n\n  \nConcentrado del evento\n  \n\nLugar: Instalaciones del CELALI\, Calle Escuadrón 201\, Núm. 6\, Barrio del Cerrillo\, San Cristóbal de Las Casas\, Chiapas.\nFecha: 3 de septiembre.\nHora: 10:00 horas.\nDetalles del evento: Presentación del libro “Diccionario del tseltal de Villa Las Rosas” de Tomás Gómez López. El evento contará con la participación de expertos y del autor para comentar la obra.
URL:https://alertachiapas.com/evento/presentaran-en-san-cristobal-el-libro-diccionario-del-tseltal-de-villa-las-rosas/
LOCATION:CELALI\, Calle Escuadrón 201\, núm. 6\, Barrio El Cerrillo\, San Cristóbal de Las Casas\, Chiapas\, Mexico
CATEGORIES:Cultura,Evento general,Presentación de libro
ATTACH;FMTTYPE=image/jpeg:https://alertachiapas.com/wp-content/uploads/2025/09/540938174_10240087884635065_3899408552760334760_n.jpg
END:VEVENT
BEGIN:VEVENT
DTSTART;TZID=America/Mexico_City:20250903T190000
DTEND;TZID=America/Mexico_City:20250906T213000
DTSTAMP:20260419T070044
CREATED:20250903T012306Z
LAST-MODIFIED:20250903T012306Z
UID:10000892-1756926000-1757194200@alertachiapas.com
SUMMARY:Comitán de Domínguez celebra el centenario del natalicio del Mtro. Oscar Bonifaz
DESCRIPTION:Con un extenso programa cultural que se extenderá por cuatro días\, Comitán de Domínguez conmemora los 100 años del natalicio del Mtro. Oscar Bonifaz Caballero\, una figura fundamental en la cultura chiapaneca. La celebración se llevará a cabo en el Centro Cultural Rosario Castellanos y contará con una variedad de presentaciones artísticas. \nEl programa cultural es el siguiente: \n\nMiércoles 3 de septiembre: La jornada inaugural incluirá la lectura de poemas del Mtro. Oscar Bonifaz por Rosa Hortensia Aguilar Trujillo\, la declamación de “La oración”\, el performance “Tendido para el Hambre” y la proyección del documental “Una piedra en el zapato”.\nJueves 4 de septiembre: Se presentará el grupo de danza folclórica Tenam\, dirigido por el Prof. Rubén Escandón\, seguido de la lectura dramatizada de la obra “Rosario la mujer” por el Ensamble Jaguar-Extro\, bajo la dirección de Rosa Hortensia Aguilar Trujillo.\nViernes 5 de septiembre: El grupo de filosofía “La Vos pensante”\, dirigido por Omar Bonifaz\, presentará “Maestroscar\, su voz en la vos”. La jornada culminará con música latinoamericana a cargo del Grupo Antara.\nSábado 6 de septiembre: Se presentará la obra teatral “La Rebelión de las niñas” y la obra de títeres “¿Hijito de quién sos?” a cargo del grupo de teatro “La Comunidad Saa-Chilo con temperante”\, dirigido por Leticia Ogando.\n\nTodos los eventos se realizarán en el Auditorio Roberto Cordero Catalán. \n\n  \nConcentrado del evento\n  \n\nLugar: Centro Cultural Rosario Castellanos\, Auditorio Roberto Cordero Catalán\, Comitán de Domínguez\, Chiapas.\nFecha: Del 3 al 6 de septiembre de 2025.\nHora: 19:00 horas (7:00 PM) todos los días.\nDetalles del evento: Conmemoración del centenario del natalicio del Mtro. Oscar Bonifaz Caballero con un programa cultural que incluye lecturas\, danza\, música y teatro.
URL:https://alertachiapas.com/evento/comitan-de-dominguez-celebra-el-centenario-del-natalicio-del-mtro-oscar-bonifaz/
LOCATION:Centro Cultural Rosario Castellanos Comitán\, Rosario Castellano S/N\, Centro\,\, Comitán de Domínguez\, Chiapas\, 30000\, Mexico
CATEGORIES:Cultura,Evento general
ATTACH;FMTTYPE=image/jpeg:https://alertachiapas.com/wp-content/uploads/2025/09/540971656_10240087878994924_2294045148704166232_n.jpg
END:VEVENT
END:VCALENDAR